BEGIN:VCALENDAR
VERSION:2.0
PRODID:-//Ornithologischer Verein zu Hildesheim e. V. - ECPv6.15.20//NONSGML v1.0//EN
CALSCALE:GREGORIAN
METHOD:PUBLISH
X-WR-CALNAME:Ornithologischer Verein zu Hildesheim e. V.
X-ORIGINAL-URL:https://www.ovh-online.de
X-WR-CALDESC:Veranstaltungen für Ornithologischer Verein zu Hildesheim e. V.
REFRESH-INTERVAL;VALUE=DURATION:PT1H
X-Robots-Tag:noindex
X-PUBLISHED-TTL:PT1H
BEGIN:VTIMEZONE
TZID:Europe/Berlin
BEGIN:DAYLIGHT
TZOFFSETFROM:+0100
TZOFFSETTO:+0200
TZNAME:CEST
DTSTART:20240331T010000
END:DAYLIGHT
BEGIN:STANDARD
TZOFFSETFROM:+0200
TZOFFSETTO:+0100
TZNAME:CET
DTSTART:20241027T010000
END:STANDARD
BEGIN:DAYLIGHT
TZOFFSETFROM:+0100
TZOFFSETTO:+0200
TZNAME:CEST
DTSTART:20250330T010000
END:DAYLIGHT
BEGIN:STANDARD
TZOFFSETFROM:+0200
TZOFFSETTO:+0100
TZNAME:CET
DTSTART:20251026T010000
END:STANDARD
BEGIN:DAYLIGHT
TZOFFSETFROM:+0100
TZOFFSETTO:+0200
TZNAME:CEST
DTSTART:20260329T010000
END:DAYLIGHT
BEGIN:STANDARD
TZOFFSETFROM:+0200
TZOFFSETTO:+0100
TZNAME:CET
DTSTART:20261025T010000
END:STANDARD
END:VTIMEZONE
BEGIN:VEVENT
DTSTART;TZID=Europe/Berlin:20251125T190000
DTEND;TZID=Europe/Berlin:20251125T210000
DTSTAMP:20260424T113823
CREATED:20251004T130402Z
LAST-MODIFIED:20251004T130402Z
UID:10002210-1764097200-1764104400@www.ovh-online.de
SUMMARY:Fachsitzung mit einer Bildpräsentation von Salvatore Bologna: „Peloponnes und Attika“
DESCRIPTION:Fachsitzung mit einer Bildpräsentation von Salvatore Bologna\,\nHildesheim; Thema: „Peloponnes und Attika“ – Impressionen aus\nNatur\, Kultur und Hades (Unterwelt)\nKlöster\, wilde Natur und Höhlen finden wir auf dem Peloponnes auf\nSchritt und Tritt. Orchideen\, Schmetterlinge\, Vögel usw. sind etwas\nabseits der Touristenstöme zu entdecken.\nDie Klimaflucht treibt uns aus dem kalten Deutschland hinaus Richtung\nSüden auf der Suche nach wohliger Wärme. Kommen Sie mit und\nentdecken Sie die wunderbare Vielfalt der puren Natur und die Welt\nunter unseren Füßen. Der Hades – die Unterwelt der Griechen – wartet\nauf ihre Entdeckung.\nBeginn: 19:00 Uhr\, „KreisSportBund Hildesheim e.V.“\, Jahnstraße 52\,\n31137 Hildesheim (parken in der Julianen-Aue nahe Schwimmhalle
URL:https://www.ovh-online.de/veranstaltung/fachsitzung-mit-einer-bildpraesentation-von-salvatore-bologna-peloponnes-und-attika/
LOCATION:KreisSportBund Hildesheim\, Jahnstraße 52\, Hildesheim\, 31137\, Deutschland
CATEGORIES:Fachsitzung
ORGANIZER;CN="OVH":MAILTO:info@ovh-online.de
GEO:52.162799;9.920969
X-APPLE-STRUCTURED-LOCATION;VALUE=URI;X-ADDRESS=KreisSportBund Hildesheim Jahnstraße 52 Hildesheim 31137 Deutschland;X-APPLE-RADIUS=500;X-TITLE=Jahnstraße 52:geo:9.920969,52.162799
END:VEVENT
END:VCALENDAR