BEGIN:VCALENDAR
VERSION:2.0
PRODID:-//Ornithologischer Verein zu Hildesheim e. V. - ECPv6.15.20//NONSGML v1.0//EN
CALSCALE:GREGORIAN
METHOD:PUBLISH
X-WR-CALNAME:Ornithologischer Verein zu Hildesheim e. V.
X-ORIGINAL-URL:https://www.ovh-online.de
X-WR-CALDESC:Veranstaltungen für Ornithologischer Verein zu Hildesheim e. V.
REFRESH-INTERVAL;VALUE=DURATION:PT1H
X-Robots-Tag:noindex
X-PUBLISHED-TTL:PT1H
BEGIN:VTIMEZONE
TZID:Europe/Berlin
BEGIN:DAYLIGHT
TZOFFSETFROM:+0100
TZOFFSETTO:+0200
TZNAME:CEST
DTSTART:20240331T010000
END:DAYLIGHT
BEGIN:STANDARD
TZOFFSETFROM:+0200
TZOFFSETTO:+0100
TZNAME:CET
DTSTART:20241027T010000
END:STANDARD
BEGIN:DAYLIGHT
TZOFFSETFROM:+0100
TZOFFSETTO:+0200
TZNAME:CEST
DTSTART:20250330T010000
END:DAYLIGHT
BEGIN:STANDARD
TZOFFSETFROM:+0200
TZOFFSETTO:+0100
TZNAME:CET
DTSTART:20251026T010000
END:STANDARD
BEGIN:DAYLIGHT
TZOFFSETFROM:+0100
TZOFFSETTO:+0200
TZNAME:CEST
DTSTART:20260329T010000
END:DAYLIGHT
BEGIN:STANDARD
TZOFFSETFROM:+0200
TZOFFSETTO:+0100
TZNAME:CET
DTSTART:20261025T010000
END:STANDARD
END:VTIMEZONE
BEGIN:VEVENT
DTSTART;TZID=Europe/Berlin:20251214T090000
DTEND;TZID=Europe/Berlin:20251214T120000
DTSTAMP:20260420T234427
CREATED:20251109T190627Z
LAST-MODIFIED:20251109T190627Z
UID:10002213-1765702800-1765713600@www.ovh-online.de
SUMMARY:Birden mit Bene
DESCRIPTION:„Birden mit Bene“ – Naturkundlicher Spaziergang vom winterli-\nchen Hohnsensee entlang des Mühlengrabens.\nBeim Rundgang zwischen den Gewässern hoffen wir auf Winter-\ngäste und erleben den umgestalteten Ernst-Ehrlicher-Park.\n(Dauer ca. 3 Std.)\nTreffpunkt: 09:00 Uhr\, Hildesheim\, Parkplatz am Hohnsensee\nKontakt: Benedikt Scharfenberg\, 0162 4681235
URL:https://www.ovh-online.de/veranstaltung/birden-mit-bene-6/
LOCATION:Hildesheim\, Parkplatz Hohnsen\, Hildesheim\, 31134
CATEGORIES:Exkursion
ORGANIZER;CN="OVH":MAILTO:info@ovh-online.de
GEO:52.13872;9.95429
END:VEVENT
END:VCALENDAR