BEGIN:VCALENDAR
VERSION:2.0
PRODID:-//Ornithologischer Verein zu Hildesheim e. V. - ECPv6.15.20//NONSGML v1.0//EN
CALSCALE:GREGORIAN
METHOD:PUBLISH
X-ORIGINAL-URL:https://www.ovh-online.de
X-WR-CALDESC:Veranstaltungen für Ornithologischer Verein zu Hildesheim e. V.
REFRESH-INTERVAL;VALUE=DURATION:PT1H
X-Robots-Tag:noindex
X-PUBLISHED-TTL:PT1H
BEGIN:VTIMEZONE
TZID:Europe/Berlin
BEGIN:DAYLIGHT
TZOFFSETFROM:+0100
TZOFFSETTO:+0200
TZNAME:CEST
DTSTART:20250330T010000
END:DAYLIGHT
BEGIN:STANDARD
TZOFFSETFROM:+0200
TZOFFSETTO:+0100
TZNAME:CET
DTSTART:20251026T010000
END:STANDARD
BEGIN:DAYLIGHT
TZOFFSETFROM:+0100
TZOFFSETTO:+0200
TZNAME:CEST
DTSTART:20260329T010000
END:DAYLIGHT
BEGIN:STANDARD
TZOFFSETFROM:+0200
TZOFFSETTO:+0100
TZNAME:CET
DTSTART:20261025T010000
END:STANDARD
BEGIN:DAYLIGHT
TZOFFSETFROM:+0100
TZOFFSETTO:+0200
TZNAME:CEST
DTSTART:20270328T010000
END:DAYLIGHT
BEGIN:STANDARD
TZOFFSETFROM:+0200
TZOFFSETTO:+0100
TZNAME:CET
DTSTART:20271031T010000
END:STANDARD
END:VTIMEZONE
BEGIN:VEVENT
DTSTART;TZID=Europe/Berlin:20260228T180000
DTEND;TZID=Europe/Berlin:20260228T210000
DTSTAMP:20260420T160959
CREATED:20251109T195254Z
LAST-MODIFIED:20251109T195254Z
UID:10002223-1772301600-1772312400@www.ovh-online.de
SUMMARY:Birden mit Bene
DESCRIPTION:„Birden mit Bene“ – Abendspaziergang in den Südwald bei\nDiekholzen\nWer glaubt\, dass es nachts im Wald still ist\, kann hier eines Besseren\nbelehrt werden. Mit etwas Glück ist das Schrecken der Rehböcke\nund Gesang heimischer Eulen zu hören.\nWer mag\, bringt eine Taschenlampe mit. Festes Schuhwerk ist unbe-\ndingt erforderlich! (Dauer ca. 3 Std.)\nTreffpunkt: 18:00 Uhr\, Diekholzen\, Parkplatz bei Broyhansweg 33\nKontakt: Benedikt Scharfenberg\, 0162 4681235
URL:https://www.ovh-online.de/veranstaltung/birden-mit-bene-8/
LOCATION:Diekholzen\, Ende des Broyhansweges\, Broyhansweg\, Diekholzen\, Niedersachsen
CATEGORIES:Exkursion
ORGANIZER;CN="OVH":MAILTO:info@ovh-online.de
GEO:52.101101;9.882926
X-APPLE-STRUCTURED-LOCATION;VALUE=URI;X-ADDRESS=Diekholzen Ende des Broyhansweges Broyhansweg Diekholzen Niedersachsen;X-APPLE-RADIUS=500;X-TITLE=Broyhansweg:geo:9.882926,52.101101
END:VEVENT
END:VCALENDAR