BEGIN:VCALENDAR
VERSION:2.0
PRODID:-//Ornithologischer Verein zu Hildesheim e. V. - ECPv6.15.20//NONSGML v1.0//EN
CALSCALE:GREGORIAN
METHOD:PUBLISH
X-WR-CALNAME:Ornithologischer Verein zu Hildesheim e. V.
X-ORIGINAL-URL:https://www.ovh-online.de
X-WR-CALDESC:Veranstaltungen für Ornithologischer Verein zu Hildesheim e. V.
REFRESH-INTERVAL;VALUE=DURATION:PT1H
X-Robots-Tag:noindex
X-PUBLISHED-TTL:PT1H
BEGIN:VTIMEZONE
TZID:Europe/Berlin
BEGIN:DAYLIGHT
TZOFFSETFROM:+0100
TZOFFSETTO:+0200
TZNAME:CEST
DTSTART:20250330T010000
END:DAYLIGHT
BEGIN:STANDARD
TZOFFSETFROM:+0200
TZOFFSETTO:+0100
TZNAME:CET
DTSTART:20251026T010000
END:STANDARD
BEGIN:DAYLIGHT
TZOFFSETFROM:+0100
TZOFFSETTO:+0200
TZNAME:CEST
DTSTART:20260329T010000
END:DAYLIGHT
BEGIN:STANDARD
TZOFFSETFROM:+0200
TZOFFSETTO:+0100
TZNAME:CET
DTSTART:20261025T010000
END:STANDARD
BEGIN:DAYLIGHT
TZOFFSETFROM:+0100
TZOFFSETTO:+0200
TZNAME:CEST
DTSTART:20270328T010000
END:DAYLIGHT
BEGIN:STANDARD
TZOFFSETFROM:+0200
TZOFFSETTO:+0100
TZNAME:CET
DTSTART:20271031T010000
END:STANDARD
END:VTIMEZONE
BEGIN:VEVENT
DTSTART;TZID=Europe/Berlin:20260714T190000
DTEND;TZID=Europe/Berlin:20260714T210000
DTSTAMP:20260422T125824
CREATED:20260324T110945Z
LAST-MODIFIED:20260324T110945Z
UID:10002253-1784055600-1784062800@www.ovh-online.de
SUMMARY:AG Ornithologie
DESCRIPTION:AG Ornithologie um 19:00 Uhr\, „KreisSportBund Hildesheim e.V.“\,\nJahnstraße 52\, 31137 Hildesheim (parken in der Julianen-Aue nahe\nSchwimmhalle)\nBitte mögliche Änderungen wegen spontaner Exkursion beachten!\nHinweise sind dann online im Kalender zu finden
URL:https://www.ovh-online.de/veranstaltung/ag-ornithologie-28/
LOCATION:KreisSportBund Hildesheim\, Jahnstraße 52\, Hildesheim\, 31137\, Deutschland
CATEGORIES:AG Ornithologie
ORGANIZER;CN="OVH":MAILTO:info@ovh-online.de
GEO:52.162799;9.920969
X-APPLE-STRUCTURED-LOCATION;VALUE=URI;X-ADDRESS=KreisSportBund Hildesheim Jahnstraße 52 Hildesheim 31137 Deutschland;X-APPLE-RADIUS=500;X-TITLE=Jahnstraße 52:geo:9.920969,52.162799
END:VEVENT
BEGIN:VEVENT
DTSTART;TZID=Europe/Berlin:20260725T100000
DTEND;TZID=Europe/Berlin:20260725T130000
DTSTAMP:20260422T125824
CREATED:20260324T111407Z
LAST-MODIFIED:20260324T111407Z
UID:10002254-1784973600-1784984400@www.ovh-online.de
SUMMARY:Spaziergang: „Am roten Steine“
DESCRIPTION:„Spaziergang durch das Naturschutzgebiet „Am roten Steine“ in Hildesheim“ – mit der BI-Wasserkamp\nDas Naturschutzgebiet liegt im Hildesheimer Ortsteil Marienburg am Zusammenfluss von Beuster und Innerste. Feuchte Uferstau-\ndenflure\, Ufergehölze und ein naturnaher Weiden-Auwald prägen die Flussniederung. Im Osten wird das Gebiet durch Steilhänge\nabgegrenzt\, wo sich Halbtrockenrasen entwickelt haben und seltene Pflanzenarten zu finden sind. Das Gebiet grenzt am oberen\nRand unmittelbar an den Wasserkamp. Die BI-Wasserkamp informiert über die möglichen Auswirkungen des hier in der Diskussi-\non befindlichen Bebauungsgebietes.\nTreffpunkt: 10:00 Uhr\, Hildesheim\, Parkplatz Südfriedhof\nFührung: Uta Striebl und Richard Huster\, 0151 53830161\nrichard.huster@ovh-online.de
URL:https://www.ovh-online.de/veranstaltung/spaziergang-am-roten-steine/
LOCATION:Hildesheim\, Parkplatz Südfriedhof\, Hildesheim\, 31141
CATEGORIES:Exkursion
ORGANIZER;CN="OVH":MAILTO:info@ovh-online.de
GEO:52.12955;9.97745
END:VEVENT
BEGIN:VEVENT
DTSTART;TZID=Europe/Berlin:20260728T180000
DTEND;TZID=Europe/Berlin:20260728T210000
DTSTAMP:20260422T125824
CREATED:20260324T111808Z
LAST-MODIFIED:20260324T111808Z
UID:10002255-1785261600-1785272400@www.ovh-online.de
SUMMARY:Ferienfachsitzung
DESCRIPTION:„Ferienfachsitzung“ – an der Grillhütte bei Graste (Lamspringer Straße)\, zu erreichen über Adenstedt Richtung Bad Salzdetfurth\noder über Bad Salzdetfurth Richtung Alfeld in beiden Fällen bei der Firma „Kreidezeit“ Richtung Lamspringe abbiegen (Harbar-\nnsen\, Netze\, Graste)\, ca. 100 m ab Ortsausfahrt Graste links einbiegen; (bitte Essgeschirr mitbringen)\nBeginn: 18:00 Uhr\nAusrichter: Sabine und Detlef Wochnik
URL:https://www.ovh-online.de/veranstaltung/ferienfachsitzung-3/
LOCATION:Graster Grillhütte\, Graster Grillhütte\, Woltershausen\, 31099
CATEGORIES:Fachsitzung
ORGANIZER;CN="OVH":MAILTO:info@ovh-online.de
GEO:51.967535;9.990103
X-APPLE-STRUCTURED-LOCATION;VALUE=URI;X-ADDRESS=Graster Grillhütte Graster Grillhütte Woltershausen 31099;X-APPLE-RADIUS=500;X-TITLE=Graster Grillhütte:geo:9.990103,51.967535
END:VEVENT
BEGIN:VEVENT
DTSTART;TZID=Europe/Berlin:20260807T180000
DTEND;TZID=Europe/Berlin:20260807T200000
DTSTAMP:20260422T125824
CREATED:20260325T145214Z
LAST-MODIFIED:20260325T155918Z
UID:10002256-1786125600-1786132800@www.ovh-online.de
SUMMARY:Fahrradtour in der Börde
DESCRIPTION:„Es wird Abend in der Börde“ – Fahrradtour\nVeranstaltung des NSV Borsumer Kaspel (Dauer ca. 2 Std.)\nTreffpunkt: 18:00 Uhr\, am Aussichtsturm des renaturierten Bruch-\ngrabenabschnitts zwischen Harsum und Algermissen\nKontakt: Winfried Kauer\, 05127-4233
URL:https://www.ovh-online.de/veranstaltung/fahrradtour-in-der-boerde/
LOCATION:Bruchgraben Aussichtsturm\, zwischen Harsum und Algermissen\, Niedersachsen
CATEGORIES:Radtour
GEO:52.23609;9.9681
END:VEVENT
BEGIN:VEVENT
DTSTART;TZID=Europe/Berlin:20260809T090000
DTEND;TZID=Europe/Berlin:20260809T120000
DTSTAMP:20260422T125824
CREATED:20260325T150449Z
LAST-MODIFIED:20260325T155643Z
UID:10002257-1786266000-1786276800@www.ovh-online.de
SUMMARY:Wanderung im Innerstetal
DESCRIPTION:„Wanderung im Innerstetal“ – Bei dieser insektenkundlich-bota-\nnischen Wanderung zwischen Heinde und Hockeln lassen wir uns\nüberraschen\, was es am Weg zu beobachten gibt.\nTreffpunkt: 09:00 Uhr\, vor (westl.) der Heinder Mühle. Den Treffpunkt\nerreicht man von Groß Düngen kommend in Heinde die\nerste Straße (in der Kurve) rechts abbiegen; nach etwa\n300 m an der Weggabelung rechts (Dauer ca. 3 Std.)\nFührung: Kirsten Wedlich und Günter Grein\, 05121-605252
URL:https://www.ovh-online.de/veranstaltung/wanderung-im-innerstetal/
LOCATION:Heinde-Mühle\, Mühlenweg\, Heinde\, Niedersachsen\, 31162\, Deutschland
CATEGORIES:Exkursion
ORGANIZER;CN="OVH":MAILTO:info@ovh-online.de
GEO:52.099104601175;10.036233915343
X-APPLE-STRUCTURED-LOCATION;VALUE=URI;X-ADDRESS=Heinde-Mühle Mühlenweg Heinde Niedersachsen 31162 Deutschland;X-APPLE-RADIUS=500;X-TITLE=Mühlenweg:geo:10.036233915343,52.099104601175
END:VEVENT
BEGIN:VEVENT
DTSTART;TZID=Europe/Berlin:20260811T190000
DTEND;TZID=Europe/Berlin:20260811T210000
DTSTAMP:20260422T125824
CREATED:20260325T150602Z
LAST-MODIFIED:20260325T150602Z
UID:10002258-1786474800-1786482000@www.ovh-online.de
SUMMARY:AG Ornithologie
DESCRIPTION:AG Ornithologie um 19:00 Uhr\, „KreisSportBund Hildesheim e.V.“\,\nJahnstraße 52\, 31137 Hildesheim (parken in der Julianen-Aue nahe\nSchwimmhalle)
URL:https://www.ovh-online.de/veranstaltung/ag-ornithologie-29/
LOCATION:KreisSportBund Hildesheim\, Jahnstraße 52\, Hildesheim\, 31137\, Deutschland
ORGANIZER;CN="OVH":MAILTO:info@ovh-online.de
GEO:52.162799;9.920969
X-APPLE-STRUCTURED-LOCATION;VALUE=URI;X-ADDRESS=KreisSportBund Hildesheim Jahnstraße 52 Hildesheim 31137 Deutschland;X-APPLE-RADIUS=500;X-TITLE=Jahnstraße 52:geo:9.920969,52.162799
END:VEVENT
BEGIN:VEVENT
DTSTART;TZID=Europe/Berlin:20260815T150000
DTEND;TZID=Europe/Berlin:20260815T210000
DTSTAMP:20260422T125824
CREATED:20260325T150824Z
LAST-MODIFIED:20260325T160007Z
UID:10002259-1786806000-1786827600@www.ovh-online.de
SUMMARY:Sommerfest Naturschutz Alpe-Bruch
DESCRIPTION:„Sommerfest“ am Vereinshaus am Bruchgraben\,\nVerein für Naturschutz Alpe-Bruch (Algermissen)\nBeginn: ab 15:00 Uhr (bitte Essgeschirr mitbringen)\nKontakt: Benjamin Kaune\, 0174 8230048
URL:https://www.ovh-online.de/veranstaltung/sommerfest-naturschutz-alpe-bruch/
LOCATION:Algermissen\, Vereinshaus des Vereins für Naturschutz Alpe-Bruch\, Algermissen
CATEGORIES:Sonstiges
GEO:52.235;9.958
END:VEVENT
BEGIN:VEVENT
DTSTART;TZID=Europe/Berlin:20260823T100000
DTEND;TZID=Europe/Berlin:20260823T130000
DTSTAMP:20260422T125824
CREATED:20260325T151137Z
LAST-MODIFIED:20260325T155753Z
UID:10002260-1787479200-1787490000@www.ovh-online.de
SUMMARY:geführte Radtour nahe Borsum
DESCRIPTION:„Wo der Bruchgraben beginnt“ – geführte Radtour durch den östlichen Bereich unseres Vereinsgebietes Veranstaltung des NSV Borsumer Kaspel (Dauer ca. 3 Std.)\nTreffpunkt: 10:00 Uhr\, Borsum\, ‚Am Bäckerbrink‘\nFührung: Werner Hormann\, 05121 6985424
URL:https://www.ovh-online.de/veranstaltung/gefuehrte-radtour-nahe-borsum/
LOCATION:Borsum\, Am Bäckerbrink
CATEGORIES:Radtour
GEO:52.20602;10.01041
END:VEVENT
BEGIN:VEVENT
DTSTART;TZID=Europe/Berlin:20260825T190000
DTEND;TZID=Europe/Berlin:20260825T210000
DTSTAMP:20260422T125824
CREATED:20260325T151436Z
LAST-MODIFIED:20260325T151436Z
UID:10002261-1787684400-1787691600@www.ovh-online.de
SUMMARY:Mitgliederversammlung Paul-Feindt- Stiftung
DESCRIPTION:Einladung zur Mitgliederversammlung des OVH\, hier Paul-Feindt-\nStiftung\nTagesordnung:\n1. Eröffnung\, Feststellung der ordnungsgemäßen Einladung\, der Stimmberechtigten und der Tagesordnung\n2. Berichte des Vorstandes der Paul-Feindt-Stiftung\n3. Bericht der Kassenprüfer\n4. Entlastung\n5. Anträge\, Verschiedenes\nAnträge zur Tagesordnung sind satzungsgemäß spätestens acht Tage vorher beim Vorstand schriftlich einzureichen.\nBeginn: 19:00 Uhr\, „KreisSportBund Hildesheim e.V.“\, Jahnstraße 52\,\n31137 Hildesheim (parken in der Julianen-Aue nahe Schwimmhalle)
URL:https://www.ovh-online.de/veranstaltung/mitgliederversammlung-paul-feindt-stiftung/
LOCATION:KreisSportBund Hildesheim\, Jahnstraße 52\, Hildesheim\, 31137\, Deutschland
CATEGORIES:Jahreshauptversammlung
ORGANIZER;CN="OVH":MAILTO:info@ovh-online.de
GEO:52.162799;9.920969
X-APPLE-STRUCTURED-LOCATION;VALUE=URI;X-ADDRESS=KreisSportBund Hildesheim Jahnstraße 52 Hildesheim 31137 Deutschland;X-APPLE-RADIUS=500;X-TITLE=Jahnstraße 52:geo:9.920969,52.162799
END:VEVENT
BEGIN:VEVENT
DTSTART;TZID=Europe/Berlin:20260830T070000
DTEND;TZID=Europe/Berlin:20260830T110000
DTSTAMP:20260422T125824
CREATED:20260325T151855Z
LAST-MODIFIED:20260325T151855Z
UID:10002262-1788073200-1788087600@www.ovh-online.de
SUMMARY:Birden mit Bene bei Kemme
DESCRIPTION:„Birden mit Bene bei Kemme“ – Ornithologische Exkursion in die Börde zwischen Adlum und Kemme (Dauer ca. 4 Std.)\nDie Börde gerade zwischen Kemme und Adlum ist wertvoller Lebensraum und bietet eine Möglichkeit zur Vogelbeobachtung\nim Landkreis Hildesheim. So können dort Kiebitze\, Weihen\, Rot fußfalken und rastende Mornellregenpfeifer beobachtet werden.\nTreffpunkt: 07:00 Uhr\, Hildesheim\, P+R Frankenstraße/Berliner Kreisel\nFührung: Benedikt Scharfenberg\, 0162 468 1235\nbenedikt.scharfenberg@ovh-online.de
URL:https://www.ovh-online.de/veranstaltung/birden-mit-bene-bei-kemme-2/
LOCATION:P+R Frankenstr.\, Frankenstr.\, Hildesheim\, 31135\, Deutschland
CATEGORIES:Exkursion
ORGANIZER;CN="OVH":MAILTO:info@ovh-online.de
GEO:52.157719;9.975051
X-APPLE-STRUCTURED-LOCATION;VALUE=URI;X-ADDRESS=P+R Frankenstr. Frankenstr. Hildesheim 31135 Deutschland;X-APPLE-RADIUS=500;X-TITLE=Frankenstr.:geo:9.975051,52.157719
END:VEVENT
BEGIN:VEVENT
DTSTART;TZID=Europe/Berlin:20260906T100000
DTEND;TZID=Europe/Berlin:20260906T130000
DTSTAMP:20260422T125824
CREATED:20260325T152241Z
LAST-MODIFIED:20260325T152241Z
UID:10002263-1788688800-1788699600@www.ovh-online.de
SUMMARY:Fahrradtor im Leinetal
DESCRIPTION:„Fahrradtor im Leinetal“\nAnmeldungen bitte bei Michael Piepho: 0177 7230934 oder mp-elektra@t-online.de \nVeranstaltung des NSV Gronau\nTreffpunkt: 10:00 Uhr\, Eime\, Parkplatz Gartenrestaurant Heuer\, Dunser Str. 2\nFührung: Michael Piepho
URL:https://www.ovh-online.de/veranstaltung/fahrradtor-im-leinetal/
LOCATION:Eime\, Parkplatz Gartenrestaurant Heuer\, Dunser Str. 2
CATEGORIES:Radtour
GEO:52.07447;9.72072
END:VEVENT
BEGIN:VEVENT
DTSTART;TZID=Europe/Berlin:20260908T190000
DTEND;TZID=Europe/Berlin:20260908T210000
DTSTAMP:20260422T125824
CREATED:20260325T152504Z
LAST-MODIFIED:20260325T152504Z
UID:10002264-1788894000-1788901200@www.ovh-online.de
SUMMARY:AG Ornithologie
DESCRIPTION:AG Ornithologie um 19:00 Uhr\, „KreisSportBund Hildesheim e.V.“\,Jahnstraße 52\, 31137 Hildesheim (parken in der Julianen-Aue nahe Schwimmhalle)\nBitte mögliche Änderungen wegen spontaner Exkursion beachten!\nHinweise sind dann online im Kalender zu finden.
URL:https://www.ovh-online.de/veranstaltung/ag-ornithologie-30/
LOCATION:KreisSportBund Hildesheim\, Jahnstraße 52\, Hildesheim\, 31137\, Deutschland
CATEGORIES:AG Ornithologie
ORGANIZER;CN="OVH":MAILTO:info@ovh-online.de
GEO:52.162799;9.920969
X-APPLE-STRUCTURED-LOCATION;VALUE=URI;X-ADDRESS=KreisSportBund Hildesheim Jahnstraße 52 Hildesheim 31137 Deutschland;X-APPLE-RADIUS=500;X-TITLE=Jahnstraße 52:geo:9.920969,52.162799
END:VEVENT
BEGIN:VEVENT
DTSTART;TZID=Europe/Berlin:20260912T100000
DTEND;TZID=Europe/Berlin:20260913T200000
DTSTAMP:20260422T125824
CREATED:20260325T154256Z
LAST-MODIFIED:20260325T154256Z
UID:10002265-1789207200-1789329600@www.ovh-online.de
SUMMARY:NOV-Jahrestagung in Hildesheim
DESCRIPTION:NOV-Jahrestagung in Hildesheim in Kooperation mit der Universität.\nGrundsätzlich haben wir auf den Tagungen am Samstag ein Vortragsprogramm\, dass um 10 Uhr startet. Es folgen sieben Vorträge\nbis zur Mitgliederversammlung\, und ein „bunter“ Abendvortrag\, seit ein paar Jahren umrahmt von einem Vogelquiz. Der Sonntag\nist Exkursionstag.\nAusrichter: Niedersächsische Ornithologische Vereinigung (NOV)\,\nhttps://www.ornithologie-niedersachsen.de \nInteressenten können sich unter\nthomas.brandt@ornithologie-niedersachsen.de mit einer kurzen Inhaltsangabe bewerben. \nDas Tagungsprogramm werden wir nach Fertigstellung auf der Internetseite und in der Sommerausgabe der NOV-Mitteilungen veröffentlichen.
URL:https://www.ovh-online.de/veranstaltung/nov-jahrestagung-in-hildesheim/
LOCATION:Uni Hildesheim\, Universitätsplatz 1\, Hildesheim\, 31141
CATEGORIES:Sonstiges
ORGANIZER;CN="OVH":MAILTO:info@ovh-online.de
GEO:52.1334254;9.9755126
X-APPLE-STRUCTURED-LOCATION;VALUE=URI;X-ADDRESS=Uni Hildesheim Universitätsplatz 1 Hildesheim 31141;X-APPLE-RADIUS=500;X-TITLE=Universitätsplatz 1:geo:9.9755126,52.1334254
END:VEVENT
BEGIN:VEVENT
DTSTART;TZID=Europe/Berlin:20260929T190000
DTEND;TZID=Europe/Berlin:20260929T210000
DTSTAMP:20260422T125824
CREATED:20260325T154543Z
LAST-MODIFIED:20260325T154543Z
UID:10002266-1790708400-1790715600@www.ovh-online.de
SUMMARY:Fachsitzung\, Thema: „Wildes Land“
DESCRIPTION:Fachsitzung mit dem Film zum auf Seite 68 vorgestellten Buch\, Thema: „Wildes Land“ – Die Rückkehr der Natur\nEine großartige dokumentarische Erzählung – eingefangen in intimen\, detailreichen Aufnahmen des Regisseurs und fünffachen\nEmmy Award Gewinners David Allen.\nBeginn: 19:00 Uhr\, „KreisSportBund Hildesheim e.V.“\, Jahnstraße 52\,\n31137 Hildesheim (parken in der Julianen-Aue nahe Schwimmhalle)
URL:https://www.ovh-online.de/veranstaltung/fachsitzung-thema-wildes-land/
LOCATION:KreisSportBund Hildesheim\, Jahnstraße 52\, Hildesheim\, 31137\, Deutschland
CATEGORIES:Fachsitzung
ORGANIZER;CN="OVH":MAILTO:info@ovh-online.de
GEO:52.162799;9.920969
X-APPLE-STRUCTURED-LOCATION;VALUE=URI;X-ADDRESS=KreisSportBund Hildesheim Jahnstraße 52 Hildesheim 31137 Deutschland;X-APPLE-RADIUS=500;X-TITLE=Jahnstraße 52:geo:9.920969,52.162799
END:VEVENT
END:VCALENDAR