BEGIN:VCALENDAR
VERSION:2.0
PRODID:-//Ornithologischer Verein zu Hildesheim e. V. - ECPv6.15.20//NONSGML v1.0//EN
CALSCALE:GREGORIAN
METHOD:PUBLISH
X-ORIGINAL-URL:https://www.ovh-online.de
X-WR-CALDESC:Veranstaltungen für Ornithologischer Verein zu Hildesheim e. V.
REFRESH-INTERVAL;VALUE=DURATION:PT1H
X-Robots-Tag:noindex
X-PUBLISHED-TTL:PT1H
BEGIN:VTIMEZONE
TZID:Europe/Berlin
BEGIN:DAYLIGHT
TZOFFSETFROM:+0100
TZOFFSETTO:+0200
TZNAME:CEST
DTSTART:20240331T010000
END:DAYLIGHT
BEGIN:STANDARD
TZOFFSETFROM:+0200
TZOFFSETTO:+0100
TZNAME:CET
DTSTART:20241027T010000
END:STANDARD
BEGIN:DAYLIGHT
TZOFFSETFROM:+0100
TZOFFSETTO:+0200
TZNAME:CEST
DTSTART:20250330T010000
END:DAYLIGHT
BEGIN:STANDARD
TZOFFSETFROM:+0200
TZOFFSETTO:+0100
TZNAME:CET
DTSTART:20251026T010000
END:STANDARD
BEGIN:DAYLIGHT
TZOFFSETFROM:+0100
TZOFFSETTO:+0200
TZNAME:CEST
DTSTART:20260329T010000
END:DAYLIGHT
BEGIN:STANDARD
TZOFFSETFROM:+0200
TZOFFSETTO:+0100
TZNAME:CET
DTSTART:20261025T010000
END:STANDARD
END:VTIMEZONE
BEGIN:VEVENT
DTSTART;TZID=Europe/Berlin:20251003T100000
DTEND;TZID=Europe/Berlin:20251003T153000
DTSTAMP:20260424T104711
CREATED:20250612T090424Z
LAST-MODIFIED:20250612T092915Z
UID:10002196-1759485600-1759505400@www.ovh-online.de
SUMMARY:Streuobstwiesentag
DESCRIPTION:Streuobstwiesentag. Es gibt Führungen über die Wiese\, Sortenverkostungen und Erfahrungsaustausch.
URL:https://www.ovh-online.de/veranstaltung/streuobstwiesentag/
LOCATION:Streuobstwiese Groß Düngen\, Bergstraße\, Groß Düngen\, Niedersachsen\, 31162\, Deutschland
CATEGORIES:AG Streuobstwiese,Allgemein
ORGANIZER;CN="OVH":MAILTO:info@ovh-online.de
GEO:52.086117;10.006082
X-APPLE-STRUCTURED-LOCATION;VALUE=URI;X-ADDRESS=Streuobstwiese Groß Düngen Bergstraße Groß Düngen Niedersachsen 31162 Deutschland;X-APPLE-RADIUS=500;X-TITLE=Bergstraße:geo:10.006082,52.086117
END:VEVENT
BEGIN:VEVENT
DTSTART;TZID=Europe/Berlin:20251011T093000
DTEND;TZID=Europe/Berlin:20251011T130000
DTSTAMP:20260424T104711
CREATED:20250612T091058Z
LAST-MODIFIED:20250612T092734Z
UID:10002198-1760175000-1760187600@www.ovh-online.de
SUMMARY:Arbeitseinsatz Streuobstwiese
DESCRIPTION:Regelmäßige Arbeitseinsätze\, jeweils am 2. Samstag des Monats von 09:30 Uhr bis 13 Uhr
URL:https://www.ovh-online.de/veranstaltung/arbeitseinsatz-streuobstwiese-2/
LOCATION:Streuobstwiese Groß Düngen\, Bergstraße\, Groß Düngen\, Niedersachsen\, 31162\, Deutschland
CATEGORIES:AG Streuobstwiese,Arbeitseinsatz
ORGANIZER;CN="OVH":MAILTO:info@ovh-online.de
GEO:52.086117;10.006082
X-APPLE-STRUCTURED-LOCATION;VALUE=URI;X-ADDRESS=Streuobstwiese Groß Düngen Bergstraße Groß Düngen Niedersachsen 31162 Deutschland;X-APPLE-RADIUS=500;X-TITLE=Bergstraße:geo:10.006082,52.086117
END:VEVENT
BEGIN:VEVENT
DTSTART;TZID=Europe/Berlin:20251014T190000
DTEND;TZID=Europe/Berlin:20251014T210000
DTSTAMP:20260424T104711
CREATED:20250112T175026Z
LAST-MODIFIED:20251013T212643Z
UID:10002157-1760468400-1760475600@www.ovh-online.de
SUMMARY:AG Ornithologie
DESCRIPTION:Liebe Ornis\,\nLiebe Freundinnen und Freunde des OVH.\n\nHiermit lade ich euch herzlich zur morgigen OAG am 14.10.2025 um 19 Uhr im Kreissportbund in Himmelstühr ein.\nWer mag kann auch per Zoom teilnehmen\n\nUnter anderem haben wir folgende Punkte auf der Agenda:\n\n\nRebhuhn\, Vogel des Jahres 2026 (Siehe Anhang\, Vorsicht Bild-Zeitung 🙂 )\nBlick auf den aktuellen Vogelzug\nAdebar 2\nMerkmale des Jugendkleids bei Singvögeln\, Anhand einer diesjährigen Singdrossel\nNistkastenkontrolle am 18.10.2025 a.d. Nordfriedhof\nAktuelle Beobachtungen\n\n\n\nViele Grüße\, \nBenedikt \n\n\n\nKontakt: Benedikt Scharfenberg & Alistair Hil
URL:https://www.ovh-online.de/veranstaltung/ag-ornithologie-19/
LOCATION:KreisSportBund Hildesheim\, Jahnstraße 52\, Hildesheim\, 31137\, Deutschland
CATEGORIES:AG Ornithologie
ORGANIZER;CN="OVH":MAILTO:info@ovh-online.de
GEO:52.162799;9.920969
X-APPLE-STRUCTURED-LOCATION;VALUE=URI;X-ADDRESS=KreisSportBund Hildesheim Jahnstraße 52 Hildesheim 31137 Deutschland;X-APPLE-RADIUS=500;X-TITLE=Jahnstraße 52:geo:9.920969,52.162799
END:VEVENT
BEGIN:VEVENT
DTSTART;TZID=Europe/Berlin:20251014T190000
DTEND;TZID=Europe/Berlin:20251014T210000
DTSTAMP:20260424T104711
CREATED:20250930T162306Z
LAST-MODIFIED:20250930T162306Z
UID:10002206-1760468400-1760475600@www.ovh-online.de
SUMMARY:Fachsitzung des NSV Alpe-Bruch\, Algermissen
DESCRIPTION:Fachsitzung des NSV Alpe-Bruch\, Algermissen\nBeginn: 19:00 Uhr\, Algermissen\, im sOfa\, Jahnstr. 8\nKontakt: Benjamin Kaune\, 0174 8230048
URL:https://www.ovh-online.de/veranstaltung/fachsitzung-des-nsv-alpe-bruch-algermissen/
LOCATION:Algermissen sOfa\, Jahnstraße 8\, Marktstraße 31a\, Algermissen\, 31191
CATEGORIES:Fachsitzung
GEO:52.253788;9.974072
X-APPLE-STRUCTURED-LOCATION;VALUE=URI;X-ADDRESS=Algermissen sOfa Jahnstraße 8 Marktstraße 31a Algermissen 31191;X-APPLE-RADIUS=500;X-TITLE=Marktstraße 31a:geo:9.974072,52.253788
END:VEVENT
BEGIN:VEVENT
DTSTART;TZID=Europe/Berlin:20251026T090000
DTEND;TZID=Europe/Berlin:20251026T120000
DTSTAMP:20260424T104711
CREATED:20251004T125344Z
LAST-MODIFIED:20251004T125344Z
UID:10002207-1761469200-1761480000@www.ovh-online.de
SUMMARY:Birden mit Bene
DESCRIPTION:„Birden mit Bene“ – Vogelzug auf dem Sonnenberg\nVom exponierten Kamm am Sonnenberg gibt es nicht nur einen\nausladenden Ausblick auf das Hildesheimer Land\, sondern auch\nmit Glück einen Logenplatz auf vorüberziehende Vögel. Wer\nmöchte\, bringt eine Sitzgelegenheit mit. (Dauer ca. 3 Std.)\nTreffpunkt: 09:00 Uhr\, 31199 Diekholzen\, Parkplatz ‚Landhaus am\nSonnenberg‘\nKontakt: Benedikt Scharfenberg\, 0162 4681235
URL:https://www.ovh-online.de/veranstaltung/birden-mit-bene-5/
LOCATION:Diekholzen\, Parkplatz am Sonnenberg\, Sonnenberg 1\, Diekholzen\, Niedersachsen\, 31199
CATEGORIES:Exkursion
ORGANIZER;CN="OVH":MAILTO:info@ovh-online.de
GEO:52.09305;9.99491
X-APPLE-STRUCTURED-LOCATION;VALUE=URI;X-ADDRESS=Diekholzen Parkplatz am Sonnenberg Sonnenberg 1 Diekholzen Niedersachsen 31199;X-APPLE-RADIUS=500;X-TITLE=Sonnenberg 1:geo:9.99491,52.09305
END:VEVENT
BEGIN:VEVENT
DTSTART;TZID=Europe/Berlin:20251028T190000
DTEND;TZID=Europe/Berlin:20251028T210000
DTSTAMP:20260424T104711
CREATED:20251004T125807Z
LAST-MODIFIED:20251004T125807Z
UID:10002208-1761678000-1761685200@www.ovh-online.de
SUMMARY:Fachsitzung mit einer Bildpräsentation von Alistair Hill: Das Projekt Rebhuhn in Landkreis Hildesheim
DESCRIPTION:28. Oktober (Dienstag)\nFachsitzung mit einer Bildpräsentation von Alistair Hill\, Hildesheim;\nThema: „Das Projekt Rebhuhn im Landkreis Hildesheim“\nDer Ornithologische Verein und die Paul-Feindt-Stiftung in Zusam-\nmenarbeit mit den beiden Kreis-Jägerschaften (Hildesheim und\nAlfeld) haben ein gemeinsames Projekt zur Förderung des Rebhuhns\nin unserer Region begonnen.\nIm Vortrag wird die Ausgangssituation des Rebhuhns dargestellt und\ndas weitere Vorgehen aufgezeigt.\nBeginn: 19:00 Uhr\, „KreisSportBund Hildesheim e.V.“\, Jahnstraße 52\,\n31137 Hildesheim (parken in der Julianen-Aue nahe Schwimmhalle)
URL:https://www.ovh-online.de/veranstaltung/fachsitzung-mit-einer-bildpraesentation-von-alistair-hill-das-projekt-rebhuhn-in-landkreis-hildesheim/
LOCATION:KreisSportBund Hildesheim\, Jahnstraße 52\, Hildesheim\, 31137\, Deutschland
CATEGORIES:Fachsitzung
ORGANIZER;CN="OVH":MAILTO:info@ovh-online.de
GEO:52.162799;9.920969
X-APPLE-STRUCTURED-LOCATION;VALUE=URI;X-ADDRESS=KreisSportBund Hildesheim Jahnstraße 52 Hildesheim 31137 Deutschland;X-APPLE-RADIUS=500;X-TITLE=Jahnstraße 52:geo:9.920969,52.162799
END:VEVENT
END:VCALENDAR