BEGIN:VCALENDAR
VERSION:2.0
PRODID:-//Ornithologischer Verein zu Hildesheim e. V. - ECPv6.15.20//NONSGML v1.0//EN
CALSCALE:GREGORIAN
METHOD:PUBLISH
X-ORIGINAL-URL:https://www.ovh-online.de
X-WR-CALDESC:Veranstaltungen für Ornithologischer Verein zu Hildesheim e. V.
REFRESH-INTERVAL;VALUE=DURATION:PT1H
X-Robots-Tag:noindex
X-PUBLISHED-TTL:PT1H
BEGIN:VTIMEZONE
TZID:Europe/Berlin
BEGIN:DAYLIGHT
TZOFFSETFROM:+0100
TZOFFSETTO:+0200
TZNAME:CEST
DTSTART:20250330T010000
END:DAYLIGHT
BEGIN:STANDARD
TZOFFSETFROM:+0200
TZOFFSETTO:+0100
TZNAME:CET
DTSTART:20251026T010000
END:STANDARD
BEGIN:DAYLIGHT
TZOFFSETFROM:+0100
TZOFFSETTO:+0200
TZNAME:CEST
DTSTART:20260329T010000
END:DAYLIGHT
BEGIN:STANDARD
TZOFFSETFROM:+0200
TZOFFSETTO:+0100
TZNAME:CET
DTSTART:20261025T010000
END:STANDARD
BEGIN:DAYLIGHT
TZOFFSETFROM:+0100
TZOFFSETTO:+0200
TZNAME:CEST
DTSTART:20270328T010000
END:DAYLIGHT
BEGIN:STANDARD
TZOFFSETFROM:+0200
TZOFFSETTO:+0100
TZNAME:CET
DTSTART:20271031T010000
END:STANDARD
END:VTIMEZONE
BEGIN:VEVENT
DTSTART;TZID=Europe/Berlin:20260104T090000
DTEND;TZID=Europe/Berlin:20260104T120000
DTSTAMP:20260420T221256
CREATED:20251109T191849Z
LAST-MODIFIED:20251109T191849Z
UID:10002216-1767517200-1767528000@www.ovh-online.de
SUMMARY:Birden mit Bene
DESCRIPTION:„Birden mit Bene“ – Es lebe der Zentralfriedhof\nWir beobachten gefiederte Wintergäste in der Parklandschaft des\nNordfriedhofs und versuchen\, einen Vergleich mit Beobachtun-\ngen aus dem Vorjahr zu machen.\nTreffpunkt: 09:00 Uhr\, Hildesheim\, Peiner Str.\, Haupteingang Nord-\nfriedhof (Dauer ca. 3 Std.)\nKontakt: Benedikt Scharfenberg\, 0162 4681235
URL:https://www.ovh-online.de/veranstaltung/birden-mit-bene-7/
LOCATION:Hildesheim\, Nordfriedhof Eingang Peiner Straße\, Peiner Straße\, Hildesheim\, Niedersachsen\, 31137\, Deutschland
CATEGORIES:Exkursion
ORGANIZER;CN="OVH":MAILTO:info@ovh-online.de
GEO:52.165357;9.955225
X-APPLE-STRUCTURED-LOCATION;VALUE=URI;X-ADDRESS=Hildesheim Nordfriedhof Eingang Peiner Straße Peiner Straße Hildesheim Niedersachsen 31137 Deutschland;X-APPLE-RADIUS=500;X-TITLE=Peiner Straße:geo:9.955225,52.165357
END:VEVENT
BEGIN:VEVENT
DTSTART;TZID=Europe/Berlin:20260106T190000
DTEND;TZID=Europe/Berlin:20260106T210000
DTSTAMP:20260420T221256
CREATED:20251109T192154Z
LAST-MODIFIED:20251109T192154Z
UID:10002217-1767726000-1767733200@www.ovh-online.de
SUMMARY:Fachsitzung des NSV Alpe-Bruch
DESCRIPTION:Fachsitzung des NSV Alpe-Bruch\, Algermissen\nBeginn: 19:00 Uhr\, Algermissen\, im Sofa\, Jahnstr. 8\nKontakt: Benjamin Kaune\, 0174 8230048
URL:https://www.ovh-online.de/veranstaltung/fachsitzung-des-nsv-alpe-bruch-3/
CATEGORIES:Fachsitzung
ORGANIZER;CN="OVH":MAILTO:info@ovh-online.de
END:VEVENT
BEGIN:VEVENT
DTSTART;TZID=Europe/Berlin:20260110T093000
DTEND;TZID=Europe/Berlin:20260110T130000
DTSTAMP:20260420T221256
CREATED:20250612T091830Z
LAST-MODIFIED:20250612T091830Z
UID:10002201-1768037400-1768050000@www.ovh-online.de
SUMMARY:Arbeitseinsatz Streuobstwiese
DESCRIPTION:Regelmäßige Arbeitseinsätze\, jeweils am 2. Samstag des Monats von 09:30 Uhr bis 13 Uhr
URL:https://www.ovh-online.de/veranstaltung/arbeitseinsatz-streuobstwiese-5/
LOCATION:Streuobstwiese Groß Düngen\, Bergstraße\, Groß Düngen\, Niedersachsen\, 31162\, Deutschland
CATEGORIES:AG Streuobstwiese,Arbeitseinsatz
ORGANIZER;CN="OVH":MAILTO:info@ovh-online.de
GEO:52.086117;10.006082
X-APPLE-STRUCTURED-LOCATION;VALUE=URI;X-ADDRESS=Streuobstwiese Groß Düngen Bergstraße Groß Düngen Niedersachsen 31162 Deutschland;X-APPLE-RADIUS=500;X-TITLE=Bergstraße:geo:10.006082,52.086117
END:VEVENT
BEGIN:VEVENT
DTSTART;TZID=Europe/Berlin:20260113T190000
DTEND;TZID=Europe/Berlin:20260113T210000
DTSTAMP:20260420T221256
CREATED:20251109T201426Z
LAST-MODIFIED:20260113T155005Z
UID:10002227-1768330800-1768338000@www.ovh-online.de
SUMMARY:AG Ornithologie
DESCRIPTION:Liebe Ornis\,\n\nich wünsche euch noch ein frohes und gesundes\, neues Jahr 2026 mit vielen schönen Beobachtungen und lade euch zur ersten OAG des Jahres 2026.\nTreffpunkt ist wie gehabt der Kreissportbund um 19 Uhr.\nAuf der Tagesordnung stehen unter anderem:\n\n\nBio- & Birdblitze 2026 -> Wer mag unterstützen?\nSaatgänse in Deutschland\nNeue Veröffentlichungen des DDA\nAdebar-Treffen am 19.01.2026 um 18 Uhr bei Alistair\nAktuelle Beobachtungen\n\n\n\nBitte geht bei der aktuellen Witterung kein Risiko bei der Anfahrt ein und nehmt im Zweifel von zu Hause aus teil.\nIm Anhang findet Ihr neuen OAG-Zoom-Zugangsdaten für das komplette Jahr 2026. Bitte speichert diese ab!\n\n\n\nViele Grüße\,\nBenedikt & Alistair\nVorstand OVH | Leitung OAG  | Regionalkoordinator Adebar 2\n\n\n\nJahnstraße 52\, 31137 Hildesheim (parken in der Julianen-Aue nahe Schwimmhalle) \nOrnithologischer Verein zu Hildesheim e.V.\n– Naturschutz und Vogelkunde –\nLetzte Änderung: 13.01.2026\nZoom Zugangsinformationen für alle OAGs in 2026 :\nWeblink:\nhttps://us06web.zoom.us/j/88578554957?pwd=ABbeeSImOTH0gaRedp7\nNFZPTZwB1ZB.1\nMeeting-ID: 885 7855 4957\nKenncode: 458583\nFür Telefon:\nSchnelleinwahl mobil\n+496938079884\,\,88578554957#\,\,\,\,*458583# Deutschland\n+496950500951\,\,88578554957#\,\,\,\,*458583# Deutschland
URL:https://www.ovh-online.de/veranstaltung/ag-ornithologie-15/
LOCATION:KreisSportBund Hildesheim\, Jahnstraße 52\, Hildesheim\, 31137\, Deutschland
CATEGORIES:AG Ornithologie
ORGANIZER;CN="OVH":MAILTO:info@ovh-online.de
GEO:52.162799;9.920969
X-APPLE-STRUCTURED-LOCATION;VALUE=URI;X-ADDRESS=KreisSportBund Hildesheim Jahnstraße 52 Hildesheim 31137 Deutschland;X-APPLE-RADIUS=500;X-TITLE=Jahnstraße 52:geo:9.920969,52.162799
END:VEVENT
BEGIN:VEVENT
DTSTART;TZID=Europe/Berlin:20260118T090000
DTEND;TZID=Europe/Berlin:20260118T120000
DTSTAMP:20260420T221256
CREATED:20251109T193749Z
LAST-MODIFIED:20260117T193326Z
UID:10002219-1768726800-1768737600@www.ovh-online.de
SUMMARY:Internationale Wasservogelzählung
DESCRIPTION:„Wasservogelzählung“ und Durchzügler im Leinetal s.S. 21\nFührung: Alistair Hil \nDie Bestimmung von Wasservögeln gehört zu den reizvollsten Aufga-\nben der Vogelkunde. Im Rahmen des Monitorings der Wasservögel an\nden Kiesteichen im Leinetal bietet Alistair Hill in diesem Winterhalb-\njahr zwei Führungen an\, und zwar am 21. Dezember 2025 und am 18.\nJanuar 2026\, dem Termin für die Mittwinterzählung. Das Monitoring\nwird im Rahmen der nationalen und internationalen Wasservogelzäh-\nlung des DDA durchgeführt.\nDie Zahlen der überwinternden Gastvögel sind sowohl von der Witte-\nrung wie von dem Wasserstand der Teiche abhängig. Die Wanderung\nwird diesen Bedingungen angepasst und kann an den Teichen in\nNordstemmen und Rössing oder an der Giftener Seenplatte stattfinden.\nDer Treffpunkt ist um 09:00 Uhr an den Kiesteichen Nordstemmen\,\nSportplatz Rössing.\nDie Veranstaltung ist offen für alle Interessierte. Eine Vereinsmitglied-\nschaft ist nicht erforderlich\, auch Kinder sind willkommen. Wir empfeh-\nlen festes Schuhwerk und warme Kleidung.\nDie Teilnahme ist kostenlos\, wir freuen uns aber über Spenden für unse-\nre Naturschutzarbeit.\nKontakt: Alistair Hill – 0172 5400743 oder ahill@ovh-online.de \nLiebe Freunde\n\nKrankheitsbedingt muß ich die Wanderung am 18.01.2026 Treffpunkt Sportplatz Rössing absagen.\n\nEs tut mir Leid. Ich hoffe\, wenn einzelne Teilnehmer dort eintreffen\, dass Sie trotzdem los wandern.\n\nEs gibt immer etwas zu sehen: in den letzten Tagen wurden Zwergsäger neben Schellenten und bis über 70 Gänsesäger im Raum festgestellt.\n\nKornweihen sind auch dort auf Nahrungssuche.\n\nLeider sind die Saat- und Bläßgänsen nach dem Schneefall verschwunden. \n\nBis zum nächsten Mal\n\nViele Grüße\n\nAlistair Hill
URL:https://www.ovh-online.de/veranstaltung/internationale-wasservogelzaehlung/
LOCATION:Kiesteiche Nordstemmen Nord\, Sportplatz Rössing\, Zum Klay 6\, Nordstemmen Rössing\, 31171\, Deutschland
CATEGORIES:Exkursion,Wasservogelzählung
ORGANIZER;CN="OVH":MAILTO:info@ovh-online.de
GEO:52.1817373;9.8023227
X-APPLE-STRUCTURED-LOCATION;VALUE=URI;X-ADDRESS=Kiesteiche Nordstemmen Nord Sportplatz Rössing Zum Klay 6 Nordstemmen Rössing 31171 Deutschland;X-APPLE-RADIUS=500;X-TITLE=Zum Klay 6:geo:9.8023227,52.1817373
END:VEVENT
BEGIN:VEVENT
DTSTART;TZID=Europe/Berlin:20260118T100000
DTEND;TZID=Europe/Berlin:20260118T143000
DTSTAMP:20260420T221256
CREATED:20251109T193345Z
LAST-MODIFIED:20251109T193345Z
UID:10002218-1768730400-1768746600@www.ovh-online.de
SUMMARY:Grünkohlwanderung um den Gallberg
DESCRIPTION:„Grünkohlwanderung um den Gallberg“\nDie dunkle und triste Jahreszeit verbringt man besser nicht allein\,\nauch gehören deftiges Essen und regelmäßige Bewegung dazu.\nWer mag\, kann an unserer gut 5 km langen Grünkohlwanderung\nteilnehmen.\nAnschließend geht es zum “Gleich am Phoenix” (Elzer Str. 2\, 31137\nHildesheim) zum Essen.\nWir bitten euch um feste Zusage bei Petra Pahl unter petra.pahl@\novh-online.de bis zum 04.01.2026 und um Vorabüberweisung von\n20 € auf das OVH-Konto mit dem Verwendungszweck “Grünkohl”.\nGetränke werden vor Ort selbst bezahlt\, vegetarische Alternativen\nsind möglich (bitte angeben). Es freuen sich auf euch Petra Pahl und\nBenedikt Scharfenberg. PS: Fernglas nicht vergessen.\nTreffpunkt: 10:00 Uhr\, 31137 Hildesheim\, Isermeyerstraße\, Wander-\nparkplatz am Gallberg\, Essen gegen 13 Uhr
URL:https://www.ovh-online.de/veranstaltung/gruenkohlwanderung-um-den-gallberg/
LOCATION:Gallberg\, Isermeyerstraße/Klusburg\, Isermeyerstraße/Klusburg\, Hildesheim\, 31137
CATEGORIES:Exkursion,Sonstiges
ORGANIZER;CN="OVH":MAILTO:info@ovh-online.de
GEO:52.156828;9.909093
X-APPLE-STRUCTURED-LOCATION;VALUE=URI;X-ADDRESS=Gallberg Isermeyerstraße/Klusburg Isermeyerstraße/Klusburg Hildesheim 31137;X-APPLE-RADIUS=500;X-TITLE=Isermeyerstraße/Klusburg:geo:9.909093,52.156828
END:VEVENT
BEGIN:VEVENT
DTSTART;TZID=Europe/Berlin:20260127T190000
DTEND;TZID=Europe/Berlin:20260127T210000
DTSTAMP:20260420T221256
CREATED:20251109T194109Z
LAST-MODIFIED:20251109T194109Z
UID:10002220-1769540400-1769547600@www.ovh-online.de
SUMMARY:Fachsitzung\, Alistair Hill: Rundreise in Island
DESCRIPTION:Fachsitzung mit einer Bildpräsentation von Alistair Hill\, Hildes-\nheim; Thema: „Die Vogelwelt von Island“\nAlistair Hill berichtet über eine Rundreise in Island in 2024. Die\nReise war die Erfüllung eines lebenslangen Wunsches\, den Mü-\nckensee – Myvatn – und andere sagenumwobene Orte zusammen\nmit Ihrer Vogelwelt zu besuchen.\nBeginn: 19:00 Uhr\, „KreisSportBund Hildesheim e.V.“\, Jahnstraße 52\,\n31137 Hildesheim (parken in der Julianen-Aue nahe Schwimmhalle)
URL:https://www.ovh-online.de/veranstaltung/fachsitzung-alistair-hill-rundreise-in-island/
LOCATION:KreisSportBund Hildesheim\, Jahnstraße 52\, Hildesheim\, 31137\, Deutschland
CATEGORIES:Fachsitzung
ORGANIZER;CN="OVH":MAILTO:info@ovh-online.de
GEO:52.162799;9.920969
X-APPLE-STRUCTURED-LOCATION;VALUE=URI;X-ADDRESS=KreisSportBund Hildesheim Jahnstraße 52 Hildesheim 31137 Deutschland;X-APPLE-RADIUS=500;X-TITLE=Jahnstraße 52:geo:9.920969,52.162799
END:VEVENT
END:VCALENDAR