BEGIN:VCALENDAR
VERSION:2.0
PRODID:-//Ornithologischer Verein zu Hildesheim e. V. - ECPv6.15.20//NONSGML v1.0//EN
CALSCALE:GREGORIAN
METHOD:PUBLISH
X-WR-CALNAME:Ornithologischer Verein zu Hildesheim e. V.
X-ORIGINAL-URL:https://www.ovh-online.de
X-WR-CALDESC:Veranstaltungen für Ornithologischer Verein zu Hildesheim e. V.
REFRESH-INTERVAL;VALUE=DURATION:PT1H
X-Robots-Tag:noindex
X-PUBLISHED-TTL:PT1H
BEGIN:VTIMEZONE
TZID:Europe/Berlin
BEGIN:DAYLIGHT
TZOFFSETFROM:+0100
TZOFFSETTO:+0200
TZNAME:CEST
DTSTART:20250330T010000
END:DAYLIGHT
BEGIN:STANDARD
TZOFFSETFROM:+0200
TZOFFSETTO:+0100
TZNAME:CET
DTSTART:20251026T010000
END:STANDARD
BEGIN:DAYLIGHT
TZOFFSETFROM:+0100
TZOFFSETTO:+0200
TZNAME:CEST
DTSTART:20260329T010000
END:DAYLIGHT
BEGIN:STANDARD
TZOFFSETFROM:+0200
TZOFFSETTO:+0100
TZNAME:CET
DTSTART:20261025T010000
END:STANDARD
BEGIN:DAYLIGHT
TZOFFSETFROM:+0100
TZOFFSETTO:+0200
TZNAME:CEST
DTSTART:20270328T010000
END:DAYLIGHT
BEGIN:STANDARD
TZOFFSETFROM:+0200
TZOFFSETTO:+0100
TZNAME:CET
DTSTART:20271031T010000
END:STANDARD
END:VTIMEZONE
BEGIN:VEVENT
DTSTART;TZID=Europe/Berlin:20260224T190000
DTEND;TZID=Europe/Berlin:20260224T210000
DTSTAMP:20260421T014058
CREATED:20251109T194843Z
LAST-MODIFIED:20251109T194843Z
UID:10002222-1771959600-1771966800@www.ovh-online.de
SUMMARY:Einladung zur Jahreshauptversammlung des Ornithologischen Vereins zu Hildesheim e.V.
DESCRIPTION:Einladung zur Jahreshauptversammlung des Ornithologischen\nVereins zu Hildesheim e.V.\nTagesordnung:\n1. Eröffnung und Feststellung der ordnungsgemäßen Einladung\,\nder Tagesordnung und der Stimmberechtigten\n2. Berichte des Vorstandes\n3. Berichte der Kassenprüfer\n4. Entlastung\n5. Wahl der Kassenprüfer (auch für die jährliche Rechnungslegung\nder Paul-Feindt-Stiftung)\n6. Anträge\, Verschiedenes\nAnträge zur Tagesordnung sind laut Satzung spätestens 8 Tage\nvorher beim Vorstand schriftlich einzureichen.\nBeginn: 19:00 Uhr\, „KreisSportBund Hildesheim e.V.“\, Jahnstraße 52\,\n31137 Hildesheim (parken in der Julianen-Aue nahe Schwimmhalle)
URL:https://www.ovh-online.de/veranstaltung/einladung-zur-jahreshauptversammlung-des-ornithologischen-vereins-zu-hildesheim-e-v/
LOCATION:KreisSportBund Hildesheim\, Jahnstraße 52\, Hildesheim\, 31137\, Deutschland
CATEGORIES:Jahreshauptversammlung
ORGANIZER;CN="OVH":MAILTO:info@ovh-online.de
GEO:52.162799;9.920969
X-APPLE-STRUCTURED-LOCATION;VALUE=URI;X-ADDRESS=KreisSportBund Hildesheim Jahnstraße 52 Hildesheim 31137 Deutschland;X-APPLE-RADIUS=500;X-TITLE=Jahnstraße 52:geo:9.920969,52.162799
END:VEVENT
END:VCALENDAR