BEGIN:VCALENDAR
VERSION:2.0
PRODID:-//Ornithologischer Verein zu Hildesheim e. V. - ECPv6.15.20//NONSGML v1.0//EN
CALSCALE:GREGORIAN
METHOD:PUBLISH
X-ORIGINAL-URL:https://www.ovh-online.de
X-WR-CALDESC:Veranstaltungen für Ornithologischer Verein zu Hildesheim e. V.
REFRESH-INTERVAL;VALUE=DURATION:PT1H
X-Robots-Tag:noindex
X-PUBLISHED-TTL:PT1H
BEGIN:VTIMEZONE
TZID:Europe/Berlin
BEGIN:DAYLIGHT
TZOFFSETFROM:+0100
TZOFFSETTO:+0200
TZNAME:CEST
DTSTART:20250330T010000
END:DAYLIGHT
BEGIN:STANDARD
TZOFFSETFROM:+0200
TZOFFSETTO:+0100
TZNAME:CET
DTSTART:20251026T010000
END:STANDARD
BEGIN:DAYLIGHT
TZOFFSETFROM:+0100
TZOFFSETTO:+0200
TZNAME:CEST
DTSTART:20260329T010000
END:DAYLIGHT
BEGIN:STANDARD
TZOFFSETFROM:+0200
TZOFFSETTO:+0100
TZNAME:CET
DTSTART:20261025T010000
END:STANDARD
BEGIN:DAYLIGHT
TZOFFSETFROM:+0100
TZOFFSETTO:+0200
TZNAME:CEST
DTSTART:20270328T010000
END:DAYLIGHT
BEGIN:STANDARD
TZOFFSETFROM:+0200
TZOFFSETTO:+0100
TZNAME:CET
DTSTART:20271031T010000
END:STANDARD
END:VTIMEZONE
BEGIN:VEVENT
DTSTART;TZID=Europe/Berlin:20260315T083000
DTEND;TZID=Europe/Berlin:20260315T113000
DTSTAMP:20260421T221721
CREATED:20251109T200021Z
LAST-MODIFIED:20251109T200021Z
UID:10002225-1773563400-1773574200@www.ovh-online.de
SUMMARY:Birden mit Bene
DESCRIPTION:„Birden mit Bene“ – Nicht schlecht Herr Specht\nSechs heimische Spechtarten an einem Morgen kennenlernen?\nHier kann es wahr werden! Vom Kleinspecht bis zum großen\nSchwarzspecht sind sie neben anderen Singvögeln und den\nersten Frühlingsboten alle vertreten.\nTreffpunkt: 08:30 Uhr\, 31185 Söhlde\, gegenüber dem alten Gast-\nhaus (Nr. 2 an der B 444) (Dauer ca. 3 Std.)\nKontakt: Benedikt Scharfenberg\, 0162 4681235
URL:https://www.ovh-online.de/veranstaltung/birden-mit-bene-9/
LOCATION:Söhlde\,  Nr 2 an der B 444\, Söhlde\, Nr 2 an der B 444\, Söhlde\, Niedersachsen\, 31185\, Germany
CATEGORIES:Exkursion
ORGANIZER;CN="OVH":MAILTO:info@ovh-online.de
GEO:52.12783;10.15093
X-APPLE-STRUCTURED-LOCATION;VALUE=URI;X-ADDRESS=Söhlde  Nr 2 an der B 444 Söhlde Nr 2 an der B 444 Söhlde Niedersachsen 31185 Germany;X-APPLE-RADIUS=500;X-TITLE=Söhlde\, Nr 2 an der B 444:geo:10.15093,52.12783
END:VEVENT
END:VCALENDAR