BEGIN:VCALENDAR
VERSION:2.0
PRODID:-//Ornithologischer Verein zu Hildesheim e. V. - ECPv6.15.20//NONSGML v1.0//EN
CALSCALE:GREGORIAN
METHOD:PUBLISH
X-ORIGINAL-URL:https://www.ovh-online.de
X-WR-CALDESC:Veranstaltungen für Ornithologischer Verein zu Hildesheim e. V.
REFRESH-INTERVAL;VALUE=DURATION:PT1H
X-Robots-Tag:noindex
X-PUBLISHED-TTL:PT1H
BEGIN:VTIMEZONE
TZID:Europe/Berlin
BEGIN:DAYLIGHT
TZOFFSETFROM:+0100
TZOFFSETTO:+0200
TZNAME:CEST
DTSTART:20230326T010000
END:DAYLIGHT
BEGIN:STANDARD
TZOFFSETFROM:+0200
TZOFFSETTO:+0100
TZNAME:CET
DTSTART:20231029T010000
END:STANDARD
BEGIN:DAYLIGHT
TZOFFSETFROM:+0100
TZOFFSETTO:+0200
TZNAME:CEST
DTSTART:20240331T010000
END:DAYLIGHT
BEGIN:STANDARD
TZOFFSETFROM:+0200
TZOFFSETTO:+0100
TZNAME:CET
DTSTART:20241027T010000
END:STANDARD
BEGIN:DAYLIGHT
TZOFFSETFROM:+0100
TZOFFSETTO:+0200
TZNAME:CEST
DTSTART:20250330T010000
END:DAYLIGHT
BEGIN:STANDARD
TZOFFSETFROM:+0200
TZOFFSETTO:+0100
TZNAME:CET
DTSTART:20251026T010000
END:STANDARD
END:VTIMEZONE
BEGIN:VEVENT
DTSTART;TZID=Europe/Berlin:20240514T190000
DTEND;TZID=Europe/Berlin:20240514T210000
DTSTAMP:20260423T085313
CREATED:20240509T174742Z
LAST-MODIFIED:20240509T174811Z
UID:10002106-1715713200-1715720400@www.ovh-online.de
SUMMARY:AG Ornithologie
DESCRIPTION:Moin Moin liebe OVH-Mitglieder\, Liebe Freundinnen und Freunde des OVH\, \n\nIch lade euch hiermit zur nächsten OAG am 14.05.2024 um 19 Uhr ein.\nUm das gute Wetter zu nutzen\, starten wir eine Exkursion zu den Sackwald nördlich bei Sack\, nahe Alfeld. Geparkt wird am Parkplatz “Bollhasen”\, nördlich von Sack:\nhttps://maps.app.goo.gl/atMDt2zKMbLmyHHf7\n\nAbfahrt ist somit um 19 Uhr im Kreissportbund\, Jahnstraße 52\, 31137 Hildesheim. Daher bitte ich um kurze\, formlose Voranmeldung per Email. Fahrgemeinschaften bilden wir spontan vor Ort.\n\nWer möchte kann auch direkt zum Parkplatz Bollhasen fahren und uns um 19:30 Uhr in Empfang nehmen.\n\nAls lockere Tagesordnung können wir auf das aktuelle Auftreten/Ausbleiben des Teichrohrsängers sprechen und Spontanes.\n\nEin Zoom-Meeting ist nicht geplant.\n\n\nViele Grüße sendet euch\,\n\n Benedikt
URL:https://www.ovh-online.de/veranstaltung/28024/
LOCATION:KreisSportBund Hildesheim\, Jahnstraße 52\, Hildesheim\, 31137\, Deutschland
CATEGORIES:AG Ornithologie
ORGANIZER;CN="OVH":MAILTO:info@ovh-online.de
GEO:52.162799;9.920969
X-APPLE-STRUCTURED-LOCATION;VALUE=URI;X-ADDRESS=KreisSportBund Hildesheim Jahnstraße 52 Hildesheim 31137 Deutschland;X-APPLE-RADIUS=500;X-TITLE=Jahnstraße 52:geo:9.920969,52.162799
END:VEVENT
END:VCALENDAR