BEGIN:VCALENDAR
VERSION:2.0
PRODID:-//Ornithologischer Verein zu Hildesheim e. V. - ECPv6.15.20//NONSGML v1.0//EN
CALSCALE:GREGORIAN
METHOD:PUBLISH
X-ORIGINAL-URL:https://www.ovh-online.de
X-WR-CALDESC:Veranstaltungen für Ornithologischer Verein zu Hildesheim e. V.
REFRESH-INTERVAL;VALUE=DURATION:PT1H
X-Robots-Tag:noindex
X-PUBLISHED-TTL:PT1H
BEGIN:VTIMEZONE
TZID:Europe/Berlin
BEGIN:DAYLIGHT
TZOFFSETFROM:+0100
TZOFFSETTO:+0200
TZNAME:CEST
DTSTART:20240331T010000
END:DAYLIGHT
BEGIN:STANDARD
TZOFFSETFROM:+0200
TZOFFSETTO:+0100
TZNAME:CET
DTSTART:20241027T010000
END:STANDARD
BEGIN:DAYLIGHT
TZOFFSETFROM:+0100
TZOFFSETTO:+0200
TZNAME:CEST
DTSTART:20250330T010000
END:DAYLIGHT
BEGIN:STANDARD
TZOFFSETFROM:+0200
TZOFFSETTO:+0100
TZNAME:CET
DTSTART:20251026T010000
END:STANDARD
BEGIN:DAYLIGHT
TZOFFSETFROM:+0100
TZOFFSETTO:+0200
TZNAME:CEST
DTSTART:20260329T010000
END:DAYLIGHT
BEGIN:STANDARD
TZOFFSETFROM:+0200
TZOFFSETTO:+0100
TZNAME:CET
DTSTART:20261025T010000
END:STANDARD
END:VTIMEZONE
BEGIN:VEVENT
DTSTART;TZID=Europe/Berlin:20251028T190000
DTEND;TZID=Europe/Berlin:20251028T210000
DTSTAMP:20260422T150249
CREATED:20251004T125807Z
LAST-MODIFIED:20251004T125807Z
UID:10002208-1761678000-1761685200@www.ovh-online.de
SUMMARY:Fachsitzung mit einer Bildpräsentation von Alistair Hill: Das Projekt Rebhuhn in Landkreis Hildesheim
DESCRIPTION:28. Oktober (Dienstag)\nFachsitzung mit einer Bildpräsentation von Alistair Hill\, Hildesheim;\nThema: „Das Projekt Rebhuhn im Landkreis Hildesheim“\nDer Ornithologische Verein und die Paul-Feindt-Stiftung in Zusam-\nmenarbeit mit den beiden Kreis-Jägerschaften (Hildesheim und\nAlfeld) haben ein gemeinsames Projekt zur Förderung des Rebhuhns\nin unserer Region begonnen.\nIm Vortrag wird die Ausgangssituation des Rebhuhns dargestellt und\ndas weitere Vorgehen aufgezeigt.\nBeginn: 19:00 Uhr\, „KreisSportBund Hildesheim e.V.“\, Jahnstraße 52\,\n31137 Hildesheim (parken in der Julianen-Aue nahe Schwimmhalle)
URL:https://www.ovh-online.de/veranstaltung/fachsitzung-mit-einer-bildpraesentation-von-alistair-hill-das-projekt-rebhuhn-in-landkreis-hildesheim/
LOCATION:KreisSportBund Hildesheim\, Jahnstraße 52\, Hildesheim\, 31137\, Deutschland
CATEGORIES:Fachsitzung
ORGANIZER;CN="OVH":MAILTO:info@ovh-online.de
GEO:52.162799;9.920969
X-APPLE-STRUCTURED-LOCATION;VALUE=URI;X-ADDRESS=KreisSportBund Hildesheim Jahnstraße 52 Hildesheim 31137 Deutschland;X-APPLE-RADIUS=500;X-TITLE=Jahnstraße 52:geo:9.920969,52.162799
END:VEVENT
END:VCALENDAR