BEGIN:VCALENDAR
VERSION:2.0
PRODID:-//Ornithologischer Verein zu Hildesheim e. V. - ECPv6.15.20//NONSGML v1.0//EN
CALSCALE:GREGORIAN
METHOD:PUBLISH
X-WR-CALNAME:Ornithologischer Verein zu Hildesheim e. V.
X-ORIGINAL-URL:https://www.ovh-online.de
X-WR-CALDESC:Veranstaltungen für Ornithologischer Verein zu Hildesheim e. V.
REFRESH-INTERVAL;VALUE=DURATION:PT1H
X-Robots-Tag:noindex
X-PUBLISHED-TTL:PT1H
BEGIN:VTIMEZONE
TZID:Europe/Berlin
BEGIN:DAYLIGHT
TZOFFSETFROM:+0100
TZOFFSETTO:+0200
TZNAME:CEST
DTSTART:20240331T010000
END:DAYLIGHT
BEGIN:STANDARD
TZOFFSETFROM:+0200
TZOFFSETTO:+0100
TZNAME:CET
DTSTART:20241027T010000
END:STANDARD
BEGIN:DAYLIGHT
TZOFFSETFROM:+0100
TZOFFSETTO:+0200
TZNAME:CEST
DTSTART:20250330T010000
END:DAYLIGHT
BEGIN:STANDARD
TZOFFSETFROM:+0200
TZOFFSETTO:+0100
TZNAME:CET
DTSTART:20251026T010000
END:STANDARD
BEGIN:DAYLIGHT
TZOFFSETFROM:+0100
TZOFFSETTO:+0200
TZNAME:CEST
DTSTART:20260329T010000
END:DAYLIGHT
BEGIN:STANDARD
TZOFFSETFROM:+0200
TZOFFSETTO:+0100
TZNAME:CET
DTSTART:20261025T010000
END:STANDARD
END:VTIMEZONE
BEGIN:VEVENT
DTSTART;TZID=Europe/Berlin:20251207T090000
DTEND;TZID=Europe/Berlin:20251207T120000
DTSTAMP:20260420T235523
CREATED:20251109T190251Z
LAST-MODIFIED:20251109T190251Z
UID:10002212-1765098000-1765108800@www.ovh-online.de
SUMMARY:Gefiederte Wintergäste an den Koldinger Seen
DESCRIPTION:„Gefiederte Wintergäste an den Koldinger Seen“.\nDie Koldinger Seen sind ein Lebensraum aus zweiter Hand. Sie\nsind durch intensiven Bodenabbau entstanden. Über 40 Jahre\nwurden hier Kiessande gefördert und zu hochwertigen Zuschlag-\nstoffen für die Bauwirtschaft verarbeitet. Hinterlassenschaft:\nRund 190 ha Wasserfläche\, verteilt auf gut ein Dutzend Seen.\nWegen der großen Bedeutung für Flora und Fauna\, insbesondere\nfür die Vogelwelt\, steht die Seenlandschaft seit 2001 unter Na-\nturschutz. Neben dem Steinhuder Meer ist sie das bedeutendste\nVogelrastgebiet in der Region.\nVeranstaltung des NSV Borsumer Kaspel (Dauer ca. 3 Std.)\nTreffpunkt: 09:00 Uhr\, Borsum\, ‚Am Bäckerbrink‘\nFührung: Walter Wedig\, Werner Hormann\, 05121-6985424
URL:https://www.ovh-online.de/veranstaltung/gefiederte-wintergaeste-an-den-koldinger-seen-2/
LOCATION:Borsum\, Am Bäckerbrink
CATEGORIES:Exkursion
GEO:52.20602;10.01041
END:VEVENT
END:VCALENDAR