BEGIN:VCALENDAR
VERSION:2.0
PRODID:-//Ornithologischer Verein zu Hildesheim e. V. - ECPv6.15.20//NONSGML v1.0//EN
CALSCALE:GREGORIAN
METHOD:PUBLISH
X-ORIGINAL-URL:https://www.ovh-online.de
X-WR-CALDESC:Veranstaltungen für Ornithologischer Verein zu Hildesheim e. V.
REFRESH-INTERVAL;VALUE=DURATION:PT1H
X-Robots-Tag:noindex
X-PUBLISHED-TTL:PT1H
BEGIN:VTIMEZONE
TZID:Europe/Berlin
BEGIN:DAYLIGHT
TZOFFSETFROM:+0100
TZOFFSETTO:+0200
TZNAME:CEST
DTSTART:20240331T010000
END:DAYLIGHT
BEGIN:STANDARD
TZOFFSETFROM:+0200
TZOFFSETTO:+0100
TZNAME:CET
DTSTART:20241027T010000
END:STANDARD
BEGIN:DAYLIGHT
TZOFFSETFROM:+0100
TZOFFSETTO:+0200
TZNAME:CEST
DTSTART:20250330T010000
END:DAYLIGHT
BEGIN:STANDARD
TZOFFSETFROM:+0200
TZOFFSETTO:+0100
TZNAME:CET
DTSTART:20251026T010000
END:STANDARD
BEGIN:DAYLIGHT
TZOFFSETFROM:+0100
TZOFFSETTO:+0200
TZNAME:CEST
DTSTART:20260329T010000
END:DAYLIGHT
BEGIN:STANDARD
TZOFFSETFROM:+0200
TZOFFSETTO:+0100
TZNAME:CET
DTSTART:20261025T010000
END:STANDARD
END:VTIMEZONE
BEGIN:VEVENT
DTSTART;TZID=Europe/Berlin:20251209T190000
DTEND;TZID=Europe/Berlin:20251209T210000
DTSTAMP:20260421T011752
CREATED:20250112T175322Z
LAST-MODIFIED:20251208T080939Z
UID:10002159-1765306800-1765314000@www.ovh-online.de
SUMMARY:AG Ornithologie
DESCRIPTION:Guten Abend liebe Ornis\,\n\nich wünsche euch zunächst noch einen schönen zweiten Advent und lade euch herzlich zur OAG am 09.12.2025 ein.\nBeginn ist wie gehabt um 19:00 Uhr im Kreissportbund Jahnstraße 52\, 31137 Hildesheim\, wer mag kann online per Zoom teilnehmen. Unter den morgigen Themen sind u.a.:\n\n\nVeröffentlichungen auf der OVH-Homepage\nRätselvögel im Adventskalender des DDA\nggfs. Grünschnitte im Stadt / Landkreis Hildesheim\nBeobachtungen (ich bitte um rege Teilnahme!)\n\nAn alle Adebar 2 Teilnehmenden: Bitte beachtet die morgige online-Sprechstunde um 19 Uhr\nZugangsdaten wie folgt:\nZoom Zugangsinformationen für alle OAGs in2025 :\nWeblink:\nhttps://us06web.zoom.us/j/82495469475?pwd=kdQxjtv60ytX6pIr6CD8U\nbivIXRc3w.1\nMeeting-ID: 824 9546 9475\nKenncode: 876508\nFür Telefon:\nSchnelleinwahl mobil\n+496950500952\,\,82495469475#\,\,\,\,*876508# Deutschland\n+496950502596\,\,82495469475#\,\,\,\,*876508# Deutschland\n\n\n\n\n\n\n\n\n\nViele Grüße\,\nBenedikt\nVorstand OVH | Leitung OAG  | Regionalkoordinator Adebar 2
URL:https://www.ovh-online.de/veranstaltung/ag-ornithologie-21/
LOCATION:KreisSportBund Hildesheim\, Jahnstraße 52\, Hildesheim\, 31137\, Deutschland
CATEGORIES:AG Ornithologie
ORGANIZER;CN="OVH":MAILTO:info@ovh-online.de
GEO:52.162799;9.920969
X-APPLE-STRUCTURED-LOCATION;VALUE=URI;X-ADDRESS=KreisSportBund Hildesheim Jahnstraße 52 Hildesheim 31137 Deutschland;X-APPLE-RADIUS=500;X-TITLE=Jahnstraße 52:geo:9.920969,52.162799
END:VEVENT
BEGIN:VEVENT
DTSTART;TZID=Europe/Berlin:20251213T093000
DTEND;TZID=Europe/Berlin:20251213T130000
DTSTAMP:20260421T011752
CREATED:20250612T091637Z
LAST-MODIFIED:20250612T091637Z
UID:10002200-1765618200-1765630800@www.ovh-online.de
SUMMARY:Arbeitseinsatz Streuobstwiese
DESCRIPTION:Regelmäßige Arbeitseinsätze\, jeweils am 2. Samstag des Monats von 09:30 Uhr bis 13 Uhr
URL:https://www.ovh-online.de/veranstaltung/arbeitseinsatz-streuobstwiese-4/
LOCATION:Streuobstwiese Groß Düngen\, Bergstraße\, Groß Düngen\, Niedersachsen\, 31162\, Deutschland
CATEGORIES:AG Streuobstwiese,Arbeitseinsatz
ORGANIZER;CN="OVH":MAILTO:info@ovh-online.de
GEO:52.086117;10.006082
X-APPLE-STRUCTURED-LOCATION;VALUE=URI;X-ADDRESS=Streuobstwiese Groß Düngen Bergstraße Groß Düngen Niedersachsen 31162 Deutschland;X-APPLE-RADIUS=500;X-TITLE=Bergstraße:geo:10.006082,52.086117
END:VEVENT
BEGIN:VEVENT
DTSTART;TZID=Europe/Berlin:20251214T090000
DTEND;TZID=Europe/Berlin:20251214T120000
DTSTAMP:20260421T011752
CREATED:20251109T190627Z
LAST-MODIFIED:20251109T190627Z
UID:10002213-1765702800-1765713600@www.ovh-online.de
SUMMARY:Birden mit Bene
DESCRIPTION:„Birden mit Bene“ – Naturkundlicher Spaziergang vom winterli-\nchen Hohnsensee entlang des Mühlengrabens.\nBeim Rundgang zwischen den Gewässern hoffen wir auf Winter-\ngäste und erleben den umgestalteten Ernst-Ehrlicher-Park.\n(Dauer ca. 3 Std.)\nTreffpunkt: 09:00 Uhr\, Hildesheim\, Parkplatz am Hohnsensee\nKontakt: Benedikt Scharfenberg\, 0162 4681235
URL:https://www.ovh-online.de/veranstaltung/birden-mit-bene-6/
LOCATION:Hildesheim\, Parkplatz Hohnsen\, Hildesheim\, 31134
CATEGORIES:Exkursion
ORGANIZER;CN="OVH":MAILTO:info@ovh-online.de
GEO:52.13872;9.95429
END:VEVENT
END:VCALENDAR