BEGIN:VCALENDAR
VERSION:2.0
PRODID:-//Ornithologischer Verein zu Hildesheim e. V. - ECPv6.15.20//NONSGML v1.0//EN
CALSCALE:GREGORIAN
METHOD:PUBLISH
X-ORIGINAL-URL:https://www.ovh-online.de
X-WR-CALDESC:Veranstaltungen für Ornithologischer Verein zu Hildesheim e. V.
REFRESH-INTERVAL;VALUE=DURATION:PT1H
X-Robots-Tag:noindex
X-PUBLISHED-TTL:PT1H
BEGIN:VTIMEZONE
TZID:Europe/Berlin
BEGIN:DAYLIGHT
TZOFFSETFROM:+0100
TZOFFSETTO:+0200
TZNAME:CEST
DTSTART:20250330T010000
END:DAYLIGHT
BEGIN:STANDARD
TZOFFSETFROM:+0200
TZOFFSETTO:+0100
TZNAME:CET
DTSTART:20251026T010000
END:STANDARD
BEGIN:DAYLIGHT
TZOFFSETFROM:+0100
TZOFFSETTO:+0200
TZNAME:CEST
DTSTART:20260329T010000
END:DAYLIGHT
BEGIN:STANDARD
TZOFFSETFROM:+0200
TZOFFSETTO:+0100
TZNAME:CET
DTSTART:20261025T010000
END:STANDARD
BEGIN:DAYLIGHT
TZOFFSETFROM:+0100
TZOFFSETTO:+0200
TZNAME:CEST
DTSTART:20270328T010000
END:DAYLIGHT
BEGIN:STANDARD
TZOFFSETFROM:+0200
TZOFFSETTO:+0100
TZNAME:CET
DTSTART:20271031T010000
END:STANDARD
END:VTIMEZONE
BEGIN:VEVENT
DTSTART;TZID=Europe/Berlin:20260210T190000
DTEND;TZID=Europe/Berlin:20260210T210000
DTSTAMP:20260420T234408
CREATED:20251109T194430Z
LAST-MODIFIED:20251109T194430Z
UID:10002221-1770750000-1770757200@www.ovh-online.de
SUMMARY:Fachsitzung des NSV Alpe-Bruch
DESCRIPTION:Fachsitzung des NSV Alpe-Bruch\, Algermissen\nBeginn: 19:00 Uhr\, Algermissen\, im sOfa\, Jahnstr. 8\nKontakt: Benjamin Kaune\, 0174 8230048
URL:https://www.ovh-online.de/veranstaltung/fachsitzung-des-nsv-alpe-bruch-4/
LOCATION:Algermissen sOfa\, Jahnstraße 8\, Marktstraße 31a\, Algermissen\, 31191
CATEGORIES:Fachsitzung
GEO:52.253788;9.974072
X-APPLE-STRUCTURED-LOCATION;VALUE=URI;X-ADDRESS=Algermissen sOfa Jahnstraße 8 Marktstraße 31a Algermissen 31191;X-APPLE-RADIUS=500;X-TITLE=Marktstraße 31a:geo:9.974072,52.253788
END:VEVENT
BEGIN:VEVENT
DTSTART;TZID=Europe/Berlin:20260210T190000
DTEND;TZID=Europe/Berlin:20260210T210000
DTSTAMP:20260420T234408
CREATED:20251109T201548Z
LAST-MODIFIED:20251109T201548Z
UID:10002228-1770750000-1770757200@www.ovh-online.de
SUMMARY:AG Ornithologie
DESCRIPTION:10. Februar (Dienstag)\nAG Ornithologie um 19:00 Uhr\, „KreisSportBund Hildesheim e.V.“\,\nJahnstraße 52\, 31137 Hildesheim (parken in der Julianen-Aue nahe\nSchwimmhalle)
URL:https://www.ovh-online.de/veranstaltung/ag-ornithologie-17/
LOCATION:KreisSportBund Hildesheim\, Jahnstraße 52\, Hildesheim\, 31137\, Deutschland
CATEGORIES:AG Ornithologie
ORGANIZER;CN="OVH":MAILTO:info@ovh-online.de
GEO:52.162799;9.920969
X-APPLE-STRUCTURED-LOCATION;VALUE=URI;X-ADDRESS=KreisSportBund Hildesheim Jahnstraße 52 Hildesheim 31137 Deutschland;X-APPLE-RADIUS=500;X-TITLE=Jahnstraße 52:geo:9.920969,52.162799
END:VEVENT
BEGIN:VEVENT
DTSTART;TZID=Europe/Berlin:20260214T093000
DTEND;TZID=Europe/Berlin:20260214T130000
DTSTAMP:20260420T234408
CREATED:20250612T092032Z
LAST-MODIFIED:20250612T092032Z
UID:10002202-1771061400-1771074000@www.ovh-online.de
SUMMARY:Arbeitseinsatz Streuobstwiese
DESCRIPTION:Regelmäßige Arbeitseinsätze\, jeweils am 2. Samstag des Monats von 09:30 Uhr bis 13 Uhr
URL:https://www.ovh-online.de/veranstaltung/arbeitseinsatz-streuobstwiese-6/
LOCATION:Streuobstwiese Groß Düngen\, Bergstraße\, Groß Düngen\, Niedersachsen\, 31162\, Deutschland
CATEGORIES:AG Streuobstwiese,Arbeitseinsatz
ORGANIZER;CN="OVH":MAILTO:info@ovh-online.de
GEO:52.086117;10.006082
X-APPLE-STRUCTURED-LOCATION;VALUE=URI;X-ADDRESS=Streuobstwiese Groß Düngen Bergstraße Groß Düngen Niedersachsen 31162 Deutschland;X-APPLE-RADIUS=500;X-TITLE=Bergstraße:geo:10.006082,52.086117
END:VEVENT
END:VCALENDAR