BEGIN:VCALENDAR
VERSION:2.0
PRODID:-//Ornithologischer Verein zu Hildesheim e. V. - ECPv6.15.20//NONSGML v1.0//EN
CALSCALE:GREGORIAN
METHOD:PUBLISH
X-WR-CALNAME:Ornithologischer Verein zu Hildesheim e. V.
X-ORIGINAL-URL:https://www.ovh-online.de
X-WR-CALDESC:Veranstaltungen für Ornithologischer Verein zu Hildesheim e. V.
REFRESH-INTERVAL;VALUE=DURATION:PT1H
X-Robots-Tag:noindex
X-PUBLISHED-TTL:PT1H
BEGIN:VTIMEZONE
TZID:Europe/Berlin
BEGIN:DAYLIGHT
TZOFFSETFROM:+0100
TZOFFSETTO:+0200
TZNAME:CEST
DTSTART:20250330T010000
END:DAYLIGHT
BEGIN:STANDARD
TZOFFSETFROM:+0200
TZOFFSETTO:+0100
TZNAME:CET
DTSTART:20251026T010000
END:STANDARD
BEGIN:DAYLIGHT
TZOFFSETFROM:+0100
TZOFFSETTO:+0200
TZNAME:CEST
DTSTART:20260329T010000
END:DAYLIGHT
BEGIN:STANDARD
TZOFFSETFROM:+0200
TZOFFSETTO:+0100
TZNAME:CET
DTSTART:20261025T010000
END:STANDARD
BEGIN:DAYLIGHT
TZOFFSETFROM:+0100
TZOFFSETTO:+0200
TZNAME:CEST
DTSTART:20270328T010000
END:DAYLIGHT
BEGIN:STANDARD
TZOFFSETFROM:+0200
TZOFFSETTO:+0100
TZNAME:CET
DTSTART:20271031T010000
END:STANDARD
END:VTIMEZONE
BEGIN:VEVENT
DTSTART;TZID=Europe/Berlin:20260310T190000
DTEND;TZID=Europe/Berlin:20260310T210000
DTSTAMP:20260420T233649
CREATED:20251109T195551Z
LAST-MODIFIED:20251109T195551Z
UID:10002224-1773169200-1773176400@www.ovh-online.de
SUMMARY:Jahreshauptversammlung des NSV Alpe-Bruch
DESCRIPTION:Jahreshauptversammlung des NSV Alpe-Bruch\, Algermissen\nTagesordnung:\n1. Eröffnung und Begrüßung\, Feststellung der ordnungsgemäßen\nEinladung und Beschlussfähigkeit der Versammlung\, Bekanntga-\nbe und Genehmigung der Tagesordnung\n2. Tätigkeitsbericht des Vorstandes\n3. Berichte des Schatzmeisters\n4. Entlastung\n5. Anträge\, Verschiedenes\nAnträge zur Tagesordnung sind laut Satzung spätestens 8 Tage\nvorher beim Vorstand schriftlich einzureichen.\nBeginn: 19:00 Uhr\, Algermissen\, im sOfa\, Jahnstr. 8\nKontakt: Benjamin Kaune\, 0174 8230048
URL:https://www.ovh-online.de/veranstaltung/jahreshauptversammlung-des-nsv-alpe-bruch-2/
LOCATION:Algermissen sOfa\, Jahnstraße 8\, Marktstraße 31a\, Algermissen\, 31191
CATEGORIES:Jahreshauptversammlung
GEO:52.253788;9.974072
X-APPLE-STRUCTURED-LOCATION;VALUE=URI;X-ADDRESS=Algermissen sOfa Jahnstraße 8 Marktstraße 31a Algermissen 31191;X-APPLE-RADIUS=500;X-TITLE=Marktstraße 31a:geo:9.974072,52.253788
END:VEVENT
BEGIN:VEVENT
DTSTART;TZID=Europe/Berlin:20260310T190000
DTEND;TZID=Europe/Berlin:20260310T210000
DTSTAMP:20260420T233649
CREATED:20251109T201709Z
LAST-MODIFIED:20260309T184343Z
UID:10002229-1773169200-1773176400@www.ovh-online.de
SUMMARY:AG Ornithologie
DESCRIPTION:Guten Abend\, liebe Ornis\, \nwir laden euch herzlich zur OAG am Dienstag\, dem 10.03.2026 ein.\nBeginn ist wie gewohnt um 19:00 Uhr im Kreissportbund\, Jahnstraße 52\, 31137 Hildesheim. Wer möchte\, kann auch online per Zoom teilnehmen. \n\n\nAktuelle Beobachtungen des Seidensängers? Sind die Populationen eingebrochen?\n\n\nBio- & Birdblitze 2026\n\n\nNeue Veröffentlichungen des DDA\n\n\nAktuelle Beobachtungen\n\n\nVerschiedenes\n\n\nMit freundlichen Grüßen\, \nAlistair & Benedikt \nVorstand OVH | Leitung OAG  | Regionalkoordinator Adebar 2 \nAG Ornithologie um 19:00 Uhr\, „KreisSportBund Hildesheim e.V.“\,\nJahnstraße 52\, 31137 Hildesheim (parken in der Julianen-Aue nahe\nSchwimmhalle) \nOrnithologischer Verein zu Hildesheim e.V.\n– Naturschutz und Vogelkunde –\nLetzte Änderung: 13.01.2026\nZoom Zugangsinformationen für alle OAGs in 2026 :\nWeblink:\nhttps://us06web.zoom.us/j/88578554957?pwd=ABbeeSImOTH0gaRedp7\nNFZPTZwB1ZB.1\nMeeting-ID: 885 7855 4957\nKenncode: 458583\nFür Telefon:\nSchnelleinwahl mobil\n+496938079884\,\,88578554957#\,\,\,\,*458583# Deutschland\n+496950500951\,\,88578554957#\,\,\,\,*458583# Deutschland
URL:https://www.ovh-online.de/veranstaltung/ag-ornithologie-25/
LOCATION:KreisSportBund Hildesheim\, Jahnstraße 52\, Hildesheim\, 31137\, Deutschland
CATEGORIES:AG Ornithologie
ORGANIZER;CN="OVH":MAILTO:info@ovh-online.de
GEO:52.162799;9.920969
X-APPLE-STRUCTURED-LOCATION;VALUE=URI;X-ADDRESS=KreisSportBund Hildesheim Jahnstraße 52 Hildesheim 31137 Deutschland;X-APPLE-RADIUS=500;X-TITLE=Jahnstraße 52:geo:9.920969,52.162799
END:VEVENT
BEGIN:VEVENT
DTSTART;TZID=Europe/Berlin:20260314T093000
DTEND;TZID=Europe/Berlin:20260314T130000
DTSTAMP:20260420T233649
CREATED:20250612T092226Z
LAST-MODIFIED:20250612T092226Z
UID:10002203-1773480600-1773493200@www.ovh-online.de
SUMMARY:Arbeitseinsatz Streuobstwiese
DESCRIPTION:Regelmäßige Arbeitseinsätze\, jeweils am 2. Samstag des Monats von 09:30 Uhr bis 13 Uhr
URL:https://www.ovh-online.de/veranstaltung/arbeitseinsatz-streuobstwiese-7/
LOCATION:Streuobstwiese Groß Düngen\, Bergstraße\, Groß Düngen\, Niedersachsen\, 31162\, Deutschland
CATEGORIES:AG Streuobstwiese,Arbeitseinsatz
ORGANIZER;CN="OVH":MAILTO:info@ovh-online.de
GEO:52.086117;10.006082
X-APPLE-STRUCTURED-LOCATION;VALUE=URI;X-ADDRESS=Streuobstwiese Groß Düngen Bergstraße Groß Düngen Niedersachsen 31162 Deutschland;X-APPLE-RADIUS=500;X-TITLE=Bergstraße:geo:10.006082,52.086117
END:VEVENT
BEGIN:VEVENT
DTSTART;TZID=Europe/Berlin:20260315T083000
DTEND;TZID=Europe/Berlin:20260315T113000
DTSTAMP:20260420T233649
CREATED:20251109T200021Z
LAST-MODIFIED:20251109T200021Z
UID:10002225-1773563400-1773574200@www.ovh-online.de
SUMMARY:Birden mit Bene
DESCRIPTION:„Birden mit Bene“ – Nicht schlecht Herr Specht\nSechs heimische Spechtarten an einem Morgen kennenlernen?\nHier kann es wahr werden! Vom Kleinspecht bis zum großen\nSchwarzspecht sind sie neben anderen Singvögeln und den\nersten Frühlingsboten alle vertreten.\nTreffpunkt: 08:30 Uhr\, 31185 Söhlde\, gegenüber dem alten Gast-\nhaus (Nr. 2 an der B 444) (Dauer ca. 3 Std.)\nKontakt: Benedikt Scharfenberg\, 0162 4681235
URL:https://www.ovh-online.de/veranstaltung/birden-mit-bene-9/
LOCATION:Söhlde\,  Nr 2 an der B 444\, Söhlde\, Nr 2 an der B 444\, Söhlde\, Niedersachsen\, 31185\, Germany
CATEGORIES:Exkursion
ORGANIZER;CN="OVH":MAILTO:info@ovh-online.de
GEO:52.12783;10.15093
X-APPLE-STRUCTURED-LOCATION;VALUE=URI;X-ADDRESS=Söhlde  Nr 2 an der B 444 Söhlde Nr 2 an der B 444 Söhlde Niedersachsen 31185 Germany;X-APPLE-RADIUS=500;X-TITLE=Söhlde\, Nr 2 an der B 444:geo:10.15093,52.12783
END:VEVENT
END:VCALENDAR