BEGIN:VCALENDAR
VERSION:2.0
PRODID:-//Ornithologischer Verein zu Hildesheim e. V. - ECPv6.15.20//NONSGML v1.0//EN
CALSCALE:GREGORIAN
METHOD:PUBLISH
X-ORIGINAL-URL:https://www.ovh-online.de
X-WR-CALDESC:Veranstaltungen für Ornithologischer Verein zu Hildesheim e. V.
REFRESH-INTERVAL;VALUE=DURATION:PT1H
X-Robots-Tag:noindex
X-PUBLISHED-TTL:PT1H
BEGIN:VTIMEZONE
TZID:Europe/Berlin
BEGIN:DAYLIGHT
TZOFFSETFROM:+0100
TZOFFSETTO:+0200
TZNAME:CEST
DTSTART:20250330T010000
END:DAYLIGHT
BEGIN:STANDARD
TZOFFSETFROM:+0200
TZOFFSETTO:+0100
TZNAME:CET
DTSTART:20251026T010000
END:STANDARD
BEGIN:DAYLIGHT
TZOFFSETFROM:+0100
TZOFFSETTO:+0200
TZNAME:CEST
DTSTART:20260329T010000
END:DAYLIGHT
BEGIN:STANDARD
TZOFFSETFROM:+0200
TZOFFSETTO:+0100
TZNAME:CET
DTSTART:20261025T010000
END:STANDARD
BEGIN:DAYLIGHT
TZOFFSETFROM:+0100
TZOFFSETTO:+0200
TZNAME:CEST
DTSTART:20270328T010000
END:DAYLIGHT
BEGIN:STANDARD
TZOFFSETFROM:+0200
TZOFFSETTO:+0100
TZNAME:CET
DTSTART:20271031T010000
END:STANDARD
END:VTIMEZONE
BEGIN:VEVENT
DTSTART;TZID=Europe/Berlin:20260414T190000
DTEND;TZID=Europe/Berlin:20260414T210000
DTSTAMP:20260420T200717
CREATED:20260322T155028Z
LAST-MODIFIED:20260413T092823Z
UID:10002232-1776193200-1776200400@www.ovh-online.de
SUMMARY:AG Ornithologie
DESCRIPTION:Liebe Freunde\n\nWir laden euch zu der April Sitzung der OAG ein.\n\nDie Brutzeit hat schon vor 6 - 8 Wochen begonnen. Viele Arten haben Nester und Eier. Einige sogar Jungvogel im Nest.\n\nDer Heimzug der Weitzieher ist schon unterwegs und erreicht den Höhepunkt im Laufe der nächsten 3-4 Wochen.\n\nEs sollte also viel zu diskutieren geben.\n\nUnsere AG-Bioakustik hat ebenfalls etwas zu berichten\n\nAdebar 2 ist mittlerweile auch stark unterwegs. Noch gibt es freie Meßtischblätter die auf  Bearbeiter warten.\n\nWir haben die Ornitho Date von 2025 bekommen - auch darüber kann über ersten Erkenntnissen gesprochen werden. \n\nAnsonsten gibt es neues aus der Literatur\n\nVereinsnachrichten\n\nViele Grüße\n\nAlistair und Benedikt\nAG Ornithologie um 19:00 Uhr\, „KreisSportBund Hildesheim e.V.“\,\nJahnstraße 52\, 31137 Hildesheim (parken in der Julianen-Aue nahe\nSchwimmhalle)
URL:https://www.ovh-online.de/veranstaltung/ag-ornithologie-8/
LOCATION:KreisSportBund Hildesheim\, Jahnstraße 52\, Hildesheim\, 31137\, Deutschland
CATEGORIES:AG Ornithologie
ORGANIZER;CN="OVH":MAILTO:info@ovh-online.de
GEO:52.162799;9.920969
X-APPLE-STRUCTURED-LOCATION;VALUE=URI;X-ADDRESS=KreisSportBund Hildesheim Jahnstraße 52 Hildesheim 31137 Deutschland;X-APPLE-RADIUS=500;X-TITLE=Jahnstraße 52:geo:9.920969,52.162799
END:VEVENT
BEGIN:VEVENT
DTSTART;TZID=Europe/Berlin:20260418T070000
DTEND;TZID=Europe/Berlin:20260418T113000
DTSTAMP:20260420T200717
CREATED:20260322T155609Z
LAST-MODIFIED:20260322T155609Z
UID:10002233-1776495600-1776511800@www.ovh-online.de
SUMMARY:Birden mit Bene & Peter
DESCRIPTION:„Birden mit Bene & Peter“ – Ornithologische Exkursion nach Klein\nIlsede\nEin ehemaliges Gebiet der Ilseder Hütte dient seit ca. 30 Jahren\nals Überschwemmungsmöglichkeit der Fuhse. Diese Fuhsewiesen\nbei Klein Ilsede sind Habitat u.a. von Blaukehlchen\, Rallen\, Rohr-\nsängern und Kranichen. Gummistiefel und feste Kleidung werden\nfür die Teilnahme benötigt. (Dauer ca. 4 – 5 Std.)\nTreffpunkt: 07:00 Uhr\, Hildesheim\, P+R Frankenstraße/Berliner\nKreisel\nFührung: Benedikt Scharfenberg\, 0162 468 1235\nbenedikt.scharfenberg@ovh-online.de
URL:https://www.ovh-online.de/veranstaltung/birden-mit-bene-peter-2/
LOCATION:P+R Frankenstr.\, Frankenstr.\, Hildesheim\, 31135\, Deutschland
CATEGORIES:Exkursion
ORGANIZER;CN="OVH":MAILTO:info@ovh-online.de
GEO:52.157719;9.975051
X-APPLE-STRUCTURED-LOCATION;VALUE=URI;X-ADDRESS=P+R Frankenstr. Frankenstr. Hildesheim 31135 Deutschland;X-APPLE-RADIUS=500;X-TITLE=Frankenstr.:geo:9.975051,52.157719
END:VEVENT
BEGIN:VEVENT
DTSTART;TZID=Europe/Berlin:20260419T093000
DTEND;TZID=Europe/Berlin:20260419T113000
DTSTAMP:20260420T200717
CREATED:20260322T161929Z
LAST-MODIFIED:20260322T162524Z
UID:10002236-1776591000-1776598200@www.ovh-online.de
SUMMARY:Frühling am Heiligenhölzchen
DESCRIPTION:„Frühling am Heiligenhölzchen“ – Sonntagsspaziergang entlang\nder Warne bei Langenholzen\nIst der Frühling endlich eingekehrt? Am steilen Hang des Heili-\ngenhölzchens können wir Veilchen und Lerchensporn entdecken\,\nvielleicht lässt sich auch die Wasseramsel an der Warne sehen.\nVon den Brücken aus werfen wir einen Blick ins klare Wasser\nmit Forellen und Groppen.\n(für Rollstuhlfahrer und Rollatoren\ngeeignet)\nGemeinschaftsveranstaltung des OVH mit der Seniorenakademie\nAlfeld und den Naturfreunden Alfeld (Dauer ca. 2 Std.)\nTreffpunkt: 09:30 Uhr\, Langenholzen\, Aldi-Parkplatz\nFührung: Bernd Galland
URL:https://www.ovh-online.de/veranstaltung/fruehling-am-heiligenhoelzchen/
LOCATION:Alfeld Langenholzen Aldi-Parkplatz\, August-Wegener-Straße 13\, Alfeld Langenholzen\, Germany
CATEGORIES:Exkursion
GEO:51.99321;9.84502
X-APPLE-STRUCTURED-LOCATION;VALUE=URI;X-ADDRESS=Alfeld Langenholzen Aldi-Parkplatz August-Wegener-Straße 13 Alfeld Langenholzen Germany;X-APPLE-RADIUS=500;X-TITLE=August-Wegener-Straße 13:geo:9.84502,51.99321
END:VEVENT
END:VCALENDAR